BEGIN:VCALENDAR
VERSION:2.0
PRODID:-//wp-events-plugin.com//7.1.7//EN
BEGIN:VEVENT
UID:1510@poonamusic.com
DTSTART:20200124T133000Z
DTEND:20200124T133000Z
DTSTAMP:20200117T011908Z
URL:https://poonamusic.com/events/oliver-triendl-piano-julia-sophie-wagner
 -soprano-and-jerome-voisin-clarinet/
SUMMARY:Oliver Triendl\, Julia Sophie Wagner and Jérôme Voisin
DESCRIPTION:In a programme of Louis Spohr: Six German Songs Op. 103\, Brahm
 s: Clarinet Sonata E flat major Op. 120 No. 2\, Schumann: Frauenliebe und 
 leben Op. 42\, Fantasy Pieces Op. 73\, &nbsp\;Enjott Schneider: ‘Longing
 ’ for soprano\, clarinet and piano (world premiere) and Schubert: The sh
 epherd on the rock D 965\n\nSupported by Goethe Institute (Max Mueller Bha
 van) and Alliance Française de Pune.\n\nOne can hardly imagine a more dev
 oted champion of neglected and rarely played composers than pianist Oliver
  Triendl. His tireless commitment\, primarily to romantic and contemporary
  music \, is reflected in more than 100 CD recordings. The scope of his re
 pertoire is surely unique\, comprising some 90 piano concertos and hundred
 s of chamber music pieces. In many cases\, he was the first to present the
 se works on stage or to commit them to disc.\n\nAs a soloist\, Triendl has
  performed together with many renowned orchestras. The list includes the B
 amberg and Munich Symphonies\, Munich Radio Orchestra\, Berlin Radio Symph
 ony Orchestra\, NDR Radio Philharmonic\, Gürzenich Orchestra\, Munich Phi
 lharmonic\, German Radio Philharmonic\, German State Philharmonic of Rhine
 land-Palatinate\, Munich\, Southwest German\, Stuttgart\, Württemberg and
  Bavarian Radio Chamber Orchestras\, Orchestre de Chambre de Lausanne\, Or
 chestreSymphonique de Bretagne\, Mozarteum Orchestra of Salzburg\, Tonkün
 stler Orchestra Vienna\, Netherlands Symphony Orchestra\, Czech State Phil
 harmonic\, Polish National Radio Symphony Orchestra\, Sinfonia Varsovia\, 
 Polish Chamber Philharmonic\, Georgian Chamber Orchestra\, St. Petersburg 
 Camerata\, Zagreb Soloists and Shanghai Symphony Orchestra.\n\nThe avid ch
 amber musician has concertized with fellow musicians such as Christian Alt
 enburger\, Wolfgang Boettcher\, Thomas Brandis\, Eduard Brunner\, Ana Chum
 achenko\, David Geringas\, Clemens Hagen\, Frans Helmerson\, Hervé Joulai
 n\, Isabelle van Keulen\, Rainer Küssmaul\, François Leleux\, Lorin Maaz
 el\, Marie Luise Neunecker\, Paul Meyer\, Sabine and Wolfgang Meyer\, Pasc
 al Moraguès\, Charles Neidich\, ArtoNoras\, Raphaël Oleg\, Gustav Rivini
 us\, Benjamin Schmid\, HagaiShaham\, Christian Tetzlaff\, Radovan Vlatkovi
 ć\, Jan Vogler and Antje Weithaas. He performed with Apollon Musagète\, 
 Artis\, Atrium\, Auryn\, Carmina\, Danel\, Keller\, Leipzig\, Meta4\, Ming
 uet\, Pražák\, Sine Nomine\, Škampa\, Talich and Vogler String Quartets
  as well as with excellent artists of the younger generation like Nicolas 
 Altstaedt\, Claudio Bohórquez\, MirijamContzen\, James Ehnes\, Liza Fersc
 htman\, David Grimal\, Ilya Gringolts\, Alina Ibragimova\, Sharon Kam\, He
 nning Kraggerud\, Pekka Kuusisto\, Johannes Moser\, Daniel Müller-Schott\
 , Alina Pogostkina\, Christian Poltéra\, Alexander Sitkovetsky\, Baiba Sk
 ride\, Valeriy Sokolov\, Carolin and Jörg Widmann.\n\nTriendl\, a native 
 of Mallersdorf\, Bavaria\, where he was born in 1970\, and a prizewinner a
 t many national and international competitions\, studied under Rainer Fuch
 s\, Karl-Heinz Diehl\, Eckart Besch\, Gerhard Oppitz and Oleg Maisenberg. 
 He has concertized with success at festivals and in many of Europe’s maj
 or music centers as well as in North and South America\, South Africa\, Ru
 ssia and Asia.\n\n&nbsp\;\n\nSoprano Julia Sophie Wagner grew up in Munich
  but has been calling Leipzig her home for quite some time now. She was bo
 rn in a family\, where music always played an important part\, both profes
 sionally and in private. Raised in the musical tradition of Johann Sebasti
 an Bach\, the interpretation of his work is what she is especially known f
 or.\n\nMusical categories is what Julia is trying to avoid at all times. S
 he feels at home with baroque music as well as with the great works of the
  classic and romantic period. Her debut at the Kennedy Center Washington\,
  where she performed her first Beethoven Missa Solemnis was voted "Kennedy
  Center event 2014" by Washington Life Magazine. At the same time she has 
 great interest in contemporary music\, especially in the challenge of brin
 ging together complex musical content and direct emotional access. Chamber
  music with the great possibilities of direct communication within the ens
 emble as well as with the audience\, and in this genre especially art song
 \, has a special place in her repertoire. In the past years Julia has brou
 ght to life numerous programs and projects\, oftentimes together with the 
 renowned pianist Eric Schneider.\n\nAfter some years of abstinence for fam
 ily reasons\, Julia will be heard and seen on the opera stage more often a
 gain in the near future\; in the 2019-20 season\, she will be singing Pami
 na in a new production of Mozart's Magic Flute at the Leipzig Opera. Julia
  is working with orchestras like the Gewandhaus Orchestra Leipzig\, Washin
 gton National Symphony Orchestra\, Munich Chamber Orchestra and Berlin Rad
 io Orchestra\, RTVE Madrid and RAI Torino as well as Bach Collegium Munich
  and Stuttgart. She also performs with period instrument specialists like 
 Collegium 1704 Prague\, Bachgesellschaft St.Gallen or Ensemble Tafelmusik 
 Toronto. Numerous of these concerts have been recorded for radio and TV\, 
 many have been released on CD or DVD.\n\nConcert tours have brought her al
 l over Europe\, to North and South America as well as to Asia where she pe
 rformed at renowned venues like the Berlin Philharmonie\, Palau de la Musi
 ca Barcelona\, Tchaikovsky Hall Moscow\, Kennedy Center Washington and Tea
 tro Colon Buenos Aires. Julia has been a well received guest at internatio
 nal festivals like Maggio Musicale Firenze\, Mendelssohn and Bach festival
  Leipzig\, Herne Early Music Festival\, Oregon Bach Festival\, Carinthian 
 Summer\, Rheingau Music Festival or Festival de la Chaise Dieu.\n\nShe gav
 e recitals at Bachfest Leipzig\, Chamber Music Festival Hohenstaufen\, Ton
 halle Zurich\, Gewandhaus Leipzig as well as in Japan and the USA. Togethe
 r with Eric Schneider she recorded a well received CD with songs by Clara 
 and Robert Schumann\, Felix Mendelssohn-Bartholdy and Edvard Grieg. Her ow
 n formats and projects like the children’s play Princess Elise and the a
 udiovisual project Lost - Du Bist Die Ruh\, Julia’s aim is always to fin
 d new audiences for the beautiful genre of art song\, oftentimes designing
  her programmes in a way that the interpretation receives another layer th
 rough juxtaposition of certain composers or aspects of music history\n\nTh
 e music of Johann Sebastian Bach being one main focus\, a very close music
 al friendship with Helmuth Rilling has greatly influenced her work. For we
 ll over a decade Julia was lucky to share the stage with him regularly and
  worldwide.\n\nClosely connected to the Bach-tradition of Leipzig\, Julia 
 regularly works with the St. Thomas Boy's Choir and has been invited to si
 ng at the Leipzig Bach Festival for ten consecutive years.Together with th
 e composer and pianist Steffen Schleiermacher\, &nbsp\;Julia is exploring 
 the music of the 20th and 21st century. Together they have given numerous 
 recitals with works by Olivier Messiaen\, Hanns Eisler or Charles Ives and
  have appeared in several documentaries on avantgarde music.\n\nAs a membe
 r of ‘Ensemble Sweet Bird’\, Julia appears in concert with Tatjana Ruh
 land (Flute) and Christian Schmitt (Piano/Organ)\, oftentimes performing t
 heir own arrangements of a wide repertoire ranging from early baroque musi
 c to contemporary pieces.\n\nJulia studied at the Music Academies Weimar a
 nd Leipzig with Venceslava Hruba-Freiberger and Hans-Joachim Beyer as well
  as at McGill University in Montreal\, Canada\, with Lucile Evans\, and at
 tended masterclasses and coachings with Edith Wiens\, Peter Schreier\, Ing
 rid Figur and Graham Johnson. She has won several prizes\, among them Moza
 rt Competition Prague\, Paula-Salomon-Lindberg Competition for contemporar
 y song and the Lortzing Competition as well as scholarships from the Germa
 n Academic Exchange Service (DAAD) and the Leipzig Opera.\n\n&nbsp\;\n\nPr
 incipal clarinet of the Orchestre Philharmonique de Radio France since 200
 6\, JérômeVoisin was previously bass clarinetist in the same orchestra f
 or 10 years. He founded in 2010 the Ensemble Pasarela (Maud Lovett\, violi
 n\, Bruno Maurice\, accordeon\, Frederic Lagarde\, piano) dedicated to mus
 ic from South America\, classical and traditional (Tango\, Brazilian music
  and also contemporary music).\n\nVery active in contemporary repertoire\,
  he plays with Ensemble TM+ or Atmusica. In 2005 he recorded Dalbavie’s 
 double concerto for clarinet\, basset horn and orchestra with Romain Guyot
 . In 2015 he recorded with Mirae ensemble\, Isang Yun’s Octet\, 2nd clar
 inet quintet and trio for the French Label Herisson. Jérôme Voisin teach
 es Clarinet and Chamber Music at the Boulogne-Billancourt Conservatory as 
 well as at the Pôle Supérieur Paris-Boulogne. He is also invited all ove
 r the world to give masterclasses and regularly at Hamamatsu Music Academy
 .&nbsp\;\n\nJérôme is endorsed by Yamaha Music Europe and plays the CSG 
 III clarinet. He is also an active Vandoren artist and plays with Vandoren
  reeds and mouthpieces.\n\n\n\n&nbsp\; 
ATTACH;FMTTYPE=image/jpeg:https://poonamusic.com/pms_wp/wp-content/uploads
 /2019/11/Julia-Sophie-Wagner-thumbnail.jpg
CATEGORIES:Festivals
LOCATION:Mazda Hall\, Sardar Dastur Hoshang Boys High School\, Pune\, India
GEO:18.5198845;73.87824479999995
X-APPLE-STRUCTURED-LOCATION;VALUE=URI;X-ADDRESS=Sardar Dastur Hoshang Boys 
 High School\, Pune\, India;X-APPLE-RADIUS=100;X-TITLE=Mazda Hall:geo:18.51
 98845,73.87824479999995
END:VEVENT
END:VCALENDAR