BEGIN:VCALENDAR
VERSION:2.0
PRODID:-//wp-events-plugin.com//7.1.7//EN
BEGIN:VEVENT
UID:1478@poonamusic.com
DTSTART:20181208T133000Z
DTEND:20181208T133000Z
DTSTAMP:20181201T103646Z
URL:https://poonamusic.com/events/olivier-moulin-piano/
SUMMARY:Olivier Moulin\, piano
DESCRIPTION:Olivier Moulin\, piano\n\nIn association with Alliance Françai
 se de Pune\n\nHommage à Debussy\n\nIn a programme of Debussy: Children’
 s corner\, Clair de lune\, Estampes\, Berceuse héroïque\, Prelude à l
 ’après-midi d’un faune and pour le piano and Hazrat Inayat Khan: 5 pi
 eces from the “Hindu songs and dances”\n\nThe French pianist Olivier M
 oulin studied under Eric Heidsieck and Gery Moutier at the Conservatoire N
 ational Supérieur de Musique of Lyon\, where he was unanimously awarded f
 irst prize with honours. After advanced studies in the same institution\, 
 he continued his training in Austria at the Salzburg Mozarteum in the clas
 ses of KarlHeinz Kämmerling and Clemens Hagen\, where he obtained a Maste
 r of Arts with highest honours. Throughout his studies\, he has also benef
 ited from the advice of masters such as Aldo Ciccolini\, Yvonne Loriod-Mes
 siaen\, Jacques Rouvier\, Jean François Heisser\, Sergio Perticaroli…\n
 \nFirst noticed when he won first prize in Radio-France’s Royaume de la 
 Musique competition\, Olivier Moulin is also prizewinner of the Epinal Int
 ernational Piano Competition and the Jeunesses Musicales de France Prize\,
  the Maurice Ravel International Academy… He is supported by the Musical
  Patronage program at the Société Générale bank and the Déclic progra
 m at Institut Français\, which promotes young French musicians abroad.\n\
 nHe has been invited to participate in major international festivals : la 
 Roque d’Anthéron\, Montpellier and Radio-France\, Lille Clef de Soleil\
 , Pianos Folies in Le Touquet\, Journées Lyriques in Chartres\, Divonne\,
  Sully-sur-Loire\, Vézère\, Croisements in China\, Virtuosi Festival in 
 Brazil… He has performed in prestigious venues in France (Grand Auditori
 um of Radio-France\, Salle Gaveau\, Salle Cortot\, the Louvre Auditorium\,
  Lyon and Avignon Operas\, Cloître des Jacobins in Toulouse\, Théâtre d
 es Variétés in Monaco\, Arsenal de Metz…)\, in Europe (Germany\, Austr
 ia\, Belgium\, Spain\, Norway\, Portugal\, Slovakia\, Switzerland\, Turkey
 …)\, Asia (Japan\, China\, South Korea)\, and the Americas (USA\, Brazil
 \, Mexico). His concerts are regularly broadcasted by radio and television
  in France and abroad. Olivier made his U.S. debut in Washington DC in 201
 4\, where he played a recital devoted to Rameau\, Debussy\, Ravel.\n\nHe h
 as also collaborated with several orchestras : Orchestre National de Lorra
 ine\, Ensemble Orchestral de Montbéliard\, the Philharmonic Orchestra of 
 Wuhan (China)\, the Camerata de Coahuila (Mexico)… His passion for chamb
 er music has allowed him to share the stage with many artists such as Davi
 d Guerrier\, the Fine Arts Quartet\, soloists of the Philharmonic of Radio
 -France\, Bertrand Chamayou\, Jérôme Dorival… In 2010\, he was invited
  to Geneva and Chartres by Eve Ruggieri to take part in conference/concert
 s focusing on the life of Frederic Chopin.\n\nHis first solo CD\, devoted 
 to Franz Liszt\, was released in october 2011 for the French labels AmeSon
 /Codaex.\n\n\n\n
ATTACH;FMTTYPE=image/jpeg:https://poonamusic.com/pms_wp/wp-content/uploads
 /2018/11/Olivier-Moulin-copyright-Christophe-PEUS.png
CATEGORIES:Piano recitals
LOCATION:Mazda Hall\, Sardar Dastur Hoshang Boys High School\, Pune\, India
GEO:18.5198845;73.87824479999995
X-APPLE-STRUCTURED-LOCATION;VALUE=URI;X-ADDRESS=Sardar Dastur Hoshang Boys 
 High School\, Pune\, India;X-APPLE-RADIUS=100;X-TITLE=Mazda Hall:geo:18.51
 98845,73.87824479999995
END:VEVENT
END:VCALENDAR