BEGIN:VCALENDAR
VERSION:2.0
PRODID:-//wp-events-plugin.com//7.1.7//EN
BEGIN:VEVENT
UID:1530@poonamusic.com
DTSTART:20201025T180000Z
DTEND:20201025T180000Z
DTSTAMP:20201027T083853Z
URL:https://poonamusic.com/events/olivier-patey-diet-tilanus-jae-won-lee-f
 rederik-boits-jerome-fruchart-2/
SUMMARY:Olivier P.\, Diet T.\, Jae Won Lee\, Frederik B.\, Jérôme F.
DESCRIPTION:Olivier Patey\, clarinet\nDiet Tilanus\, violin \nJae Won Lee\,
  violin \nFrederik Boits\, viola\nJérôme Fruchart\, cello\n\nIn associat
 ion with Goethe Institute\, Max Mueller Bhavan\, Pune and Alliance França
 ise de Pune\n\nProgramme: Osvaldo Golijov (b. 1960): Dreams and Prayers of
  Isaac the Blind (1994)\n\nPrincipal clarinetist of Concertgebouw orchestr
 a\, Olivier Patey is a prizewinner of the ARD International Music Competit
 ion and the Carl Nielsen International Music Competition. Hehas regularly 
 performed with the orchestra of the Opéra de Paris\, with the OrchestrePh
 ilharmonique de Radio France\, the Bavarian Radio Symphony Orchestra\, the
  Munich Kammerorchester\, Lucerne Festival Orchestra and Prague Philharmon
 ic Orchestra. He was Principal clarinetist of Mahler Chamber Orchestra and
  the Rotterdam Philharmonic before joining Concertgebouworkest. Patey is a
 lso active as a chamber musician and is involved with the Artie’s Festiv
 al in India as a co-founder of the Arties Records label. Along with his wi
 fe Diet Tilanus and other colleagues from the Concertgebouw orchestra in A
 msterdam\, they have recorded this performance and have kindly sent it to 
 us.\n\nGolijov’s amazing piece is based on Isaac The Blind\, the great k
 abbalist rabbi of Provence\, who dictated a manuscript in which he asserte
 d that all things and events in the universe are product of combinations o
 f the Hebrew alphabet's letters. The three movements represent three langu
 ages\; Aramaic\, Yiddish and Hebrew.\n\nTo view this concert\, please clic
 k on: https://poonamusic.com/streams/\n\nThis film will be available for a
  few weeks.\n\n&nbsp\;\n\n\n\n&nbsp\;\n\n
ATTACH;FMTTYPE=image/jpeg:https://poonamusic.com/pms_wp/wp-content/uploads
 /2020/09/Olivier-new1-copie.jpg
CATEGORIES:Online Concert
LOCATION:https://poonamusic.com/streams/
END:VEVENT
END:VCALENDAR