BEGIN:VCALENDAR
VERSION:2.0
PRODID:-//wp-events-plugin.com//7.1.7//EN
BEGIN:VEVENT
UID:1527@poonamusic.com
DTSTART:20200913T180000Z
DTEND:20200913T180000Z
DTSTAMP:20200926T113811Z
URL:https://poonamusic.com/events/olivier-patey-diet-tilanus-jae-won-lee-f
 rederik-boits-jerome-fruchart/
SUMMARY:Olivier Patey\, Diet Tilanus\, Jae Won Lee\, Frederik Boits\, Jér
 ôme Fruchart
DESCRIPTION:Olivier Patey\, clarinet\;\nDiet Tilanus\, violin\;\nJae Won Le
 e\, violin\; \nFrederik Boits\, viola\;\nJérôme Fruchart\, cello\n\nIn a
 ssociation with Goethe Institute\, Max Mueller Bhavan\, Pune and Alliance 
 Française de Pune\n\nProgramme - Mozart: Clarinet quintet K 581 (original
  version for basset clarinet)\n\nMozart's clarinet quintet is one of the m
 ost important pieces in the clarinet repertoire. Originally written for ba
 sset clarinet and dedicated to Anton Stadler\, in contemporary performance
 s it is usually played on a Clarinet in A.\n\nOlivier Patey has been many 
 times to India as part of Artie's festival. He is currently\, the principa
 l clarinet of Concertgebouw orchestra and along with his wife Diet Tilanus
  and other colleagues from the Concertgebouw orchestra in Amsterdam\, they
  have recorded this performance and have kindly sent it to us.\n\n\n\nPlea
 se follow the link: http://poonamusic.com/streams/\n\n
ATTACH;FMTTYPE=image/jpeg:https://poonamusic.com/pms_wp/wp-content/uploads
 /2020/09/everyone.jpg
CATEGORIES:Online Concert
LOCATION:https://poonamusic.com/streams/
END:VEVENT
END:VCALENDAR