BEGIN:VCALENDAR
VERSION:2.0
PRODID:-//wp-events-plugin.com//7.1.7//EN
BEGIN:VEVENT
UID:50@poonamusic.com
DTSTART:20140120T131500Z
DTEND:20140120T153000Z
DTSTAMP:20150302T203429Z
URL:https://poonamusic.com/events/one-man-orchestra-of-world-music/
SUMMARY:One man Orchestra of World music
DESCRIPTION:Mazda Hall at 7 pm(Free Admittance)One man Orchestra of World m
 usicAbaji began playing the guitar at the age of 11\, and soon picked up o
 ther instruments as well the clarinet\, percussions\, the oud\, the bouzou
 ki and flutes collected during his travels. Later\, the synthesis of these
  instruments combined with a variety of musical passions: Indian Music\, E
 astern and the blues. His guitar playing with a bow still creates sensatio
 n during festivals..Abaji is a Lebanese-born multi-instrumentalist and sin
 ger-songwriter. He grew up in a special sonic melting pot of Greek and Tur
 kish\, his family spoke at home\, the Arabic he used in public\, and the F
 rench he used at school. He fled to Paris when conflict erupted in Lebanon
  in the mid-1970s. Abaji has passion for instruments and he can take the s
 ounds he began to hear as a young man and turn them into uniquely vibrant\
 , uniquely personal music. He composes and plays music for movies and tele
 vision as well.
CATEGORIES:World Music
LOCATION:Mazda Hall\, Sardar Dastur Hoshang Boys High School\, Pune\, India
GEO:18.5198845;73.87824479999995
X-APPLE-STRUCTURED-LOCATION;VALUE=URI;X-ADDRESS=Sardar Dastur Hoshang Boys 
 High School\, Pune\, India;X-APPLE-RADIUS=100;X-TITLE=Mazda Hall:geo:18.51
 98845,73.87824479999995
END:VEVENT
END:VCALENDAR