BEGIN:VCALENDAR
VERSION:2.0
PRODID:-//wp-events-plugin.com//7.1.7//EN
BEGIN:VEVENT
UID:155@poonamusic.com
DTSTART:20100315T131500Z
DTEND:20100315T153000Z
DTSTAMP:20150302T203427Z
URL:https://poonamusic.com/events/opera-or-the-undoing-of-women-by-aude-pr
 iya-engel-soprano-philippe-engel-piano/
SUMMARY:Opera or The Undoing of Women by Aude Priya Engel\, soprano / Phi
 lippe Engel\, piano
DESCRIPTION:Opera or The Undoing of Women by Aude Priya Engel\, soprano /
  Philippe Engel\, piano in association with the Alliance Française de Pun
 e
CATEGORIES:Vocal Recitals
LOCATION:Mazda Hall\, Sardar Dastur Hoshang Boys High School\, Pune\, India
GEO:18.5198845;73.87824479999995
X-APPLE-STRUCTURED-LOCATION;VALUE=URI;X-ADDRESS=Sardar Dastur Hoshang Boys 
 High School\, Pune\, India;X-APPLE-RADIUS=100;X-TITLE=Mazda Hall:geo:18.51
 98845,73.87824479999995
END:VEVENT
END:VCALENDAR