BEGIN:VCALENDAR
VERSION:2.0
PRODID:-//wp-events-plugin.com//7.1.7//EN
BEGIN:VEVENT
UID:1365@poonamusic.com
DTSTART:20160102T133000Z
DTEND:20160102T153000Z
DTSTAMP:20151222T053346Z
URL:https://poonamusic.com/events/opus-gala/
SUMMARY:Opus Gala
DESCRIPTION:Opus Gala is a result of a collaboration between the winners of
  Deutscher Musikrat Competition and musicians from Goa.\n\nSoprano: Joanne
  D'Mello\; Horn: Constantin Glaner\, Felix Hüttel\; Oboe: Max Vogler\, An
 nika Smith\; Bassoon: Thomia Ehrhard\; Violins: Sanya Cotta\, Joris Decolv
 enaer\, Ulf Klausenitzer\, Frederika Cotta and Piano: Evelyn Dias\n\n\n\nI
 n a programme of Beethoven: Sonata for Piano and Horn Op. 17\; Francaix: D
 ivertimento\; Richard Strauss: Die Nacht\; Wolf: Nixe Binsefuβ\; Mendelss
 ohn-Bartholdy: Andres Maienlied Op. 8 No. 8\; Telemann: Concerto for 4 vio
 lins in D major\; Dancla: Recueillement Op. 203 No. 3\; Mozart: The Magic 
 Flute for 4 violins\; Lehár: Vilja Lied\, Meine Lippen sie küssen so hei
 β\; Wieniawski: Caprices for 2 violins Op. 18\; Besozzi: Parthia in D and
  Haydn: Feldparthie in F Major
ATTACH;FMTTYPE=image/jpeg:https://poonamusic.com/pms_wp/wp-content/uploads
 /2015/12/Joanne-DMellocrop.jpg
CATEGORIES:Vocal Recitals
LOCATION:Mazda Hall\, Sardar Dastur Hoshang Boys High School\, Pune\, India
GEO:18.5198845;73.87824479999995
X-APPLE-STRUCTURED-LOCATION;VALUE=URI;X-ADDRESS=Sardar Dastur Hoshang Boys 
 High School\, Pune\, India;X-APPLE-RADIUS=100;X-TITLE=Mazda Hall:geo:18.51
 98845,73.87824479999995
END:VEVENT
END:VCALENDAR