BEGIN:VCALENDAR
VERSION:2.0
PRODID:-//wp-events-plugin.com//7.1.7//EN
BEGIN:VEVENT
UID:1477@poonamusic.com
DTSTART:20181205T133000Z
DTEND:20181205T133000Z
DTSTAMP:20181201T101931Z
URL:https://poonamusic.com/events/orazio-sciortino-piano/
SUMMARY:Orazio Sciortino\, piano
DESCRIPTION:Orazio Sciortino\, piano\n\nIn association with: Italian Embass
 y Cultural Centre\, Delhi and Mumbai\n\nIn a programme of Rossini: Piano w
 orks and Schumann:&nbsp\; Carnaval Op. 9\n\nPianist and composer\, Orazio 
 Sciortino collaborates with important Italian and foreign musical institut
 ions: Teatro alla Scala in Milan\, MiTo Settembre musica\, LaVerdi Orchest
 ra\, Orchestra del Teatro La Fenice\, Bologna Festival\, IUC di Roma\, Rav
 ello Festival\, Haydn Orchestra of Bolzano and Trento\, RAI National Symph
 ony Orchestra\, Philharmonic Academy of Verona\, Maggio Musicale Fiorentin
 o\, I Pomeriggi Musicali of Milan\, Scarlatti Association of Naples\, Amic
 i della Musica di Palermo\, Sagra Malatestiana of Rimini\, Ankara Festival
 \, Konzerthaus in Berlin\, Salle Moliere in Lyon\, Ottawa Chamber Music Fe
 stival\, Festival de Wallonie\, Klara Festival Brussels\, Sala Cecilia Mei
 reles of Rio De Janeiro\, etc. He had a great success with his opera\, La 
 Paura\, dedicated to the Great War 1915-1918\, and recently with his music
 al tale La Gattomachia\, for narrator\, solo violin and strings performed 
 at La Scala theatre during the season 2016-2017.\n\nHis CD recordings\, as
  pianist\, are published by Sony Classical\, Dynamic\, Bottega Discantica\
 , Limen Music. He collaborated with Mazzotta and Skira with projects conce
 rning the relationship between visual arts and music. In 2016\, Orazio was
  appointed Krug Ambassador. The prestigious maison of champagne\, for the 
 first time in its history\, asked &nbsp\;a composer to compose a piece exc
 lusively dedicated to Krug. Orazio’s piano piece Lives through a glass\,
  dedicated to Krug Grande Cuvée\, and is included in his album Self&nbsp\
 ; Portrait released by Sony Classical with his works for solo piano. For l
 abel CLAVES\, the Ambra Piano Trio and Swiss Ensemble New Wave\, recorded 
 a CD with Orazio Sciortino's chamber works for piano and strings. He has a
  passion&nbsp\; for cooking and lives in Milan.\n\n&nbsp\;&nbsp\;\n\n&nbsp
 \;
ATTACH;FMTTYPE=image/jpeg:https://poonamusic.com/pms_wp/wp-content/uploads
 /2018/11/oraziocrop1.jpg
CATEGORIES:Piano recitals
LOCATION:Mazda Hall\, Sardar Dastur Hoshang Boys High School\, Pune\, India
GEO:18.5198845;73.87824479999995
X-APPLE-STRUCTURED-LOCATION;VALUE=URI;X-ADDRESS=Sardar Dastur Hoshang Boys 
 High School\, Pune\, India;X-APPLE-RADIUS=100;X-TITLE=Mazda Hall:geo:18.51
 98845,73.87824479999995
END:VEVENT
END:VCALENDAR