BEGIN:VCALENDAR
VERSION:2.0
PRODID:-//wp-events-plugin.com//7.1.7//EN
BEGIN:VEVENT
UID:490@poonamusic.com
DTSTART:20110115T131500Z
DTEND:20110115T153000Z
DTSTAMP:20150401T143213Z
URL:https://poonamusic.com/events/persian-letters-a-presentation-by-arnaud
 -devic/
SUMMARY:Persian Letters - A presentation by Arnaud Devic
DESCRIPTION:Persian Letters - A presentation by Arnaud Devic
CATEGORIES:Other activities
LOCATION:Mazda Hall\, Sardar Dastur Hoshang Boys High School\, Pune\, India
GEO:18.5198845;73.87824479999995
X-APPLE-STRUCTURED-LOCATION;VALUE=URI;X-ADDRESS=Sardar Dastur Hoshang Boys 
 High School\, Pune\, India;X-APPLE-RADIUS=100;X-TITLE=Mazda Hall:geo:18.51
 98845,73.87824479999995
END:VEVENT
END:VCALENDAR