BEGIN:VCALENDAR
VERSION:2.0
PRODID:-//wp-events-plugin.com//7.1.7//EN
BEGIN:VEVENT
UID:266@poonamusic.com
DTSTART:20050806T131500Z
DTEND:20050806T153000Z
DTSTAMP:20150302T203426Z
URL:https://poonamusic.com/events/pheroze-mistri-violin-roberta-swedien-pi
 ano/
SUMMARY:Pheroze Mistri\, violin / Roberta Swedien\, piano
DESCRIPTION:Pheroze Mistri\, violin / Roberta Swedien\, piano
CATEGORIES:Violin and piano recitals
LOCATION:Mazda Hall\, Sardar Dastur Hoshang Boys High School\, Pune\, India
GEO:18.5198845;73.87824479999995
X-APPLE-STRUCTURED-LOCATION;VALUE=URI;X-ADDRESS=Sardar Dastur Hoshang Boys 
 High School\, Pune\, India;X-APPLE-RADIUS=100;X-TITLE=Mazda Hall:geo:18.51
 98845,73.87824479999995
END:VEVENT
END:VCALENDAR