BEGIN:VCALENDAR
VERSION:2.0
PRODID:-//wp-events-plugin.com//7.1.7//EN
BEGIN:VEVENT
UID:1424@poonamusic.com
DTSTART:20170730T130000Z
DTEND:20170730T130000Z
DTSTAMP:20170726T002911Z
URL:https://poonamusic.com/events/pi-plus-duo/
SUMMARY:The Pi Plus Duo
DESCRIPTION:Jan Sham Brouwer\, viola and Apurva Devarajan\, piano\n\nIn a p
 rogramme of Hoffmeister: Viola Concerto (first movement)\; Glinka: viola s
 onata\; Glazunov: Elegy for viola and piano Op. 44\; Bruch: Romanze Op. 85
 \; Schumann: Fantasiestuecke Op.73 version for viola and piano and Clarke:
  Sonata for viola and piano\n\nJan Sham Brouwer received the 2012 scholars
 hip from Dutch Government and passed his BMus under Julia Dinerchtein-Zemt
 sov at the Conservatory of Maastricht in 2016. He plays frequently with ma
 ny orchestras including the Ricciotti Ensemble in Amsterdam. One of his fa
 vourite chamber music is the Mahler piano quartet. Jan Sham played Dvorak
 ’s “The American” string quartet in the Royal Concertgebouw Amsterda
 m. He played solo concerts\, the Hoffmeister viola concerto and Bruch Roma
 nze op. 85\, in the Vredenburgh Concert Hall in Utrecht.\n\nApurva Devaraj
 an&nbsp\;is an LRSM and LTCL and has given various solo recitals in India\
 , France\, Australia\, UK and USA. She was awarded as Olga Jules Craen Fou
 ndation's Young Musician of the Year 2016 and will be doing her Masters in
  Music Performance this year. In 2013\, she was offered a scholarship from
  the Royal Conservatoire of Scotland for their BMus programme.&nbsp\;\n\n
ATTACH;FMTTYPE=image/jpeg:https://poonamusic.com/pms_wp/wp-content/uploads
 /2017/06/AD-photo-crop.jpg
CATEGORIES:Viola and piano recitals
LOCATION:Mazda Hall\, Sardar Dastur Hoshang Boys High School\, Pune\, India
GEO:18.5198845;73.87824479999995
X-APPLE-STRUCTURED-LOCATION;VALUE=URI;X-ADDRESS=Sardar Dastur Hoshang Boys 
 High School\, Pune\, India;X-APPLE-RADIUS=100;X-TITLE=Mazda Hall:geo:18.51
 98845,73.87824479999995
END:VEVENT
END:VCALENDAR