BEGIN:VCALENDAR
VERSION:2.0
PRODID:-//wp-events-plugin.com//7.1.7//EN
BEGIN:VEVENT
UID:1501@poonamusic.com
DTSTART:20191020T130000Z
DTEND:20191020T130000Z
DTSTAMP:20190829T181117Z
URL:https://poonamusic.com/events/pierce-emata-piano/
SUMMARY:Pierce Emata\, piano
DESCRIPTION:In a programme of Chopin: Barcarolle in F Sharp Major\, Op. 60\
 , Michael Dalmau Colina: Sestina Mutations (India Premiere)\, Debussy: Est
 ampes\, Pierce Emata: Romance in C Major for the Left Hand (India Premiere
 )\, Felix Blumenfeld: Etude in A Major for the Left Hand and Gershwin: Rha
 psody in Blue (1925 solo transcription)\n\nPierce Kagari Emata received hi
 s Bachelor and Master degrees in Piano Performance from Indiana University
 's Jacobs School of Music\, where he coached with notable concert artists 
 such as Alfonso Montecino\, Gyorgy Sebok\, and John Ogdon.&nbsp\; He prese
 nts master classes and private lessons as part of the summer piano faculty
  at the Interlochen Center for the Arts\, an international summer school t
 hat draws 2700 students across the arts from 50 countries each year.&nbsp\
 ; In 2018 he received the 'Top Teacher Award' from Steinway &amp\; Sons in
  New York in recognition of his excellence and leadership in piano teachin
 g.&nbsp\; In addition to his private teaching practice in Las Vegas and an
  online teaching roster from coast to coast\, Mr. Emata has an active judg
 ing and performing career throughout the United States\, also presenting m
 aster classes for both teachers and students. He has served on the juries 
 of many competitions across the U.S.\, and was invited to serve on the jur
 y of the India Musiquest National Piano Competition\, where he also perfor
 med and lectured about best practices in teaching.&nbsp\;\n\nMr. Emata is 
 the recipient of numerous grants and fellowships from various state arts c
 ommissions across the United States in recognition of his accomplishments 
 in performing\, recording\, teaching and composing. He is presently workin
 g on his next CD\, titled "Healing Vibrations\," following his well-receiv
 ed CD titled "From the Hands to the Heart." Both are recorded on a Blüthn
 er Model 1 concert grand.&nbsp\;\n\nThe programmes that Mr. Emata presents
 \, trademarked and titled Concerts &amp\; Conversation\, bring a refreshin
 g dimension to the solo piano concert by incorporating an informal and eng
 aging commentary about the music\, composers\, and the artist's own person
 al experiences\, into a first-rate concert. The engaging way that these pe
 rformances are presented at once stimulates and enhances the interest of t
 he infrequent concertgoer\, yet also contains the level of sophistication 
 for the connoisseur's enjoyment.\n\nThis evening's programme will see the 
 India premiere of two works\; one by the artist\, and one by the Grammy Aw
 ard winning composer and producer Michael Dalmau Colina.&nbsp\;
ATTACH;FMTTYPE=image/jpeg:https://poonamusic.com/pms_wp/wp-content/uploads
 /2019/08/Pierce-Emata-crop.jpg
CATEGORIES:Piano recitals
LOCATION:Mazda Hall\, Sardar Dastur Hoshang Boys High School\, Pune\, India
GEO:18.5198845;73.87824479999995
X-APPLE-STRUCTURED-LOCATION;VALUE=URI;X-ADDRESS=Sardar Dastur Hoshang Boys 
 High School\, Pune\, India;X-APPLE-RADIUS=100;X-TITLE=Mazda Hall:geo:18.51
 98845,73.87824479999995
END:VEVENT
END:VCALENDAR