BEGIN:VCALENDAR
VERSION:2.0
PRODID:-//wp-events-plugin.com//7.1.7//EN
BEGIN:VEVENT
UID:1614@poonamusic.com
DTSTART:20231025T190000Z
DTEND:20231025T190000Z
DTSTAMP:20250707T030550Z
URL:https://poonamusic.com/events/play-on-words/
SUMMARY:PLAY ON WORDS
DESCRIPTION:Performed &amp\; Conceived by Hal Cazalet\nMusic Director / Pia
 nist - Simon Beck\nDirector / Co-writer - Hugh Wooldridge\n\nAn Evening of
  Music\, Laughter\, Romance &amp\; Glamour.\n\n\n\nPlay On Words sees mult
 i-accomplished performer\, composer and lyricist Hal Cazalet honouring the
  Broadway career of his step Great-Grandfather P.G. Wodehouse\, alongside 
 his favourite songs celebrating the birth of the American musical and thea
 trical writing highlights of the last 120 years. Featuring the work of P.G
 . Wodehouse\, Jerome Kern\, George and Ira Gershwin\, Alan Jay Lerner\, Ro
 dgers and Hammerstein\, Cole Porter\, Maury Yeston\, Noël Coward\, Stephe
 n Sondheim\, Hal Cazalet\, Dudley Moore\, Andrew Lloyd Webber\, Alan Ayckb
 ourn\, and many more.\n\n[caption id="attachment_15222" align="alignright"
  width="144"] Simon Beck[/caption]\n\nSimon Beck is the Music Supervisor/C
 onductor of the Glamis Prom with the Scottish Pops Orchestra\, Live At Las
  Vegas\, Scott Alan Live at IndigO2\, West End Stars In Concert with the O
 rchestra of Contemporary Music of ERT starring Ramin Karimloo\, and Dancin
 g On Ice on Greek national TV.\n\n[caption id="attachment_15226" align="al
 ignleft" width="148"] Hugh Wooldridge[/caption]\n\nHugh Wooldridge is a di
 rector\, teacher\, producer\, lighting designer and writer. He has been a 
 resident director in three UK theatres including the Old Vic in London\; h
 e was the Head of Music for Television South. For the past 25 years\, he i
 s best known for creating and directing large scale concerts and events in
 cluding the international tours of The Music of Andrew Lloyd Webber and th
 e Golden Wedding Celebration of HM The Queen at the Royal Festival Hall in
  London.\n\n\n\n
ATTACH;FMTTYPE=image/jpeg:https://poonamusic.com/pms_wp/wp-content/uploads
 /2023/10/POW-Image-2.jpg
CATEGORIES:Theatre
LOCATION:Mazda Hall\, Sardar Dastur Hoshang Boys High School\, Pune\, India
GEO:18.5198845;73.87824479999995
X-APPLE-STRUCTURED-LOCATION;VALUE=URI;X-ADDRESS=Sardar Dastur Hoshang Boys 
 High School\, Pune\, India;X-APPLE-RADIUS=100;X-TITLE=Mazda Hall:geo:18.51
 98845,73.87824479999995
END:VEVENT
END:VCALENDAR