BEGIN:VCALENDAR
VERSION:2.0
PRODID:-//wp-events-plugin.com//7.1.7//EN
BEGIN:VEVENT
UID:73@poonamusic.com
DTSTART:20140428T131500Z
DTEND:20140428T153000Z
DTSTAMP:20150302T203430Z
URL:https://poonamusic.com/events/prayatna-film-dance-festival-2014/
SUMMARY:Prayatna Film & Dance Festival 2014
DESCRIPTION:Mazda Hall at 7 pm(Free Admittance)Prayatna Film &amp\; Dance F
 estival 2014 is an annual event celebrating Contemporary Dance in India. I
 n its 6th year the festival is scheduled from the 25th April to 29th April
  2014. The celebration is organized by the Hrishikesh's Centre of Contempo
 rary Dance in association with the Max Mueller Bhavan\, supported by Allia
 nce Fran&ccedil\;aise de Pune and the BMC Software. The Gati Dance Forum\,
  New Delhi is an independent arts organization that works in the field of 
 contemporary dance in India. Founded in 2007 in response to the needs of t
 he professional dance community\, The Gati Dance Forum has actively search
 ed for avenues to develop greater opportunities and infrastructure for con
 temporary dance. Gati Summer Dance Residency\, New Delhi is an annual 10-w
 eek residency that provides emerging dance choreo-graphers in India with a
 n opportunity to create and stage their own performance.Festival Director 
 Hrishikesh Pawar\, is an acclaimed dancer and choreographer who has studie
 d Kathak and later pursued Contemporary Dance in Germany. He is highly ski
 lled in creating inter disciplinary work which has traveled all across Ind
 ia\, USA\, Europe and England. He is presently based in Pune. The evening 
 will bring selected artists from the 2009 to 2013 residencies who will pre
 sent their work created during the intensive weeks sharing\, creating and 
 reflections.
CATEGORIES:Indian music and dance
LOCATION:Mazda Hall\, Sardar Dastur Hoshang Boys High School\, Pune\, India
GEO:18.5198845;73.87824479999995
X-APPLE-STRUCTURED-LOCATION;VALUE=URI;X-ADDRESS=Sardar Dastur Hoshang Boys 
 High School\, Pune\, India;X-APPLE-RADIUS=100;X-TITLE=Mazda Hall:geo:18.51
 98845,73.87824479999995
END:VEVENT
END:VCALENDAR