BEGIN:VCALENDAR
VERSION:2.0
PRODID:-//wp-events-plugin.com//7.1.7//EN
BEGIN:VEVENT
UID:340@poonamusic.com
DTSTART:20031123T131500Z
DTEND:20031123T153000Z
DTSTAMP:20150302T203421Z
URL:https://poonamusic.com/events/puccinis-la-boheme-metropolitan-opera-or
 ch-conducted-by-james-levine/
SUMMARY:Puccini’s La Boheme – Metropolitan Opera Orch. Conducted by Jam
 es Levine
DESCRIPTION:Puccini’s La Boheme – Metropolitan Opera Orch. Conducted by
  James Levine               
CATEGORIES:Video screenings
LOCATION:Mazda Hall\, Sardar Dastur Hoshang Boys High School\, Pune\, India
GEO:18.5198845;73.87824479999995
X-APPLE-STRUCTURED-LOCATION;VALUE=URI;X-ADDRESS=Sardar Dastur Hoshang Boys 
 High School\, Pune\, India;X-APPLE-RADIUS=100;X-TITLE=Mazda Hall:geo:18.51
 98845,73.87824479999995
END:VEVENT
END:VCALENDAR