BEGIN:VCALENDAR
VERSION:2.0
PRODID:-//wp-events-plugin.com//7.1.7//EN
BEGIN:VEVENT
UID:341@poonamusic.com
DTSTART:20040118T131500Z
DTEND:20040118T153000Z
DTSTAMP:20150302T203421Z
URL:https://poonamusic.com/events/puccinis-turandot-orchestra-a-chorus-of-
 maggio-musicale-florentino-conducted-by-zubin-mehta/
SUMMARY:Puccini’s Turandot – Orchestra a Chorus of Maggio Musicale Flo
 rentino\, Conducted by Zubin Mehta
DESCRIPTION:Puccini’s Turandot – Orchestra a Chorus of Maggio Musicale
  Florentino\, Conducted by Zubin Mehta
CATEGORIES:Video screenings
LOCATION:Mazda Hall\, Sardar Dastur Hoshang Boys High School\, Pune\, India
GEO:18.5198845;73.87824479999995
X-APPLE-STRUCTURED-LOCATION;VALUE=URI;X-ADDRESS=Sardar Dastur Hoshang Boys 
 High School\, Pune\, India;X-APPLE-RADIUS=100;X-TITLE=Mazda Hall:geo:18.51
 98845,73.87824479999995
END:VEVENT
END:VCALENDAR