BEGIN:VCALENDAR
VERSION:2.0
PRODID:-//wp-events-plugin.com//7.1.7//EN
BEGIN:VEVENT
UID:1673@poonamusic.com
DTSTART:20260425T133000Z
DTEND:20260425T133000Z
DTSTAMP:20260419T114409Z
URL:https://poonamusic.com/events/pune-guitar-duo/
SUMMARY:Pune Guitar Duo
DESCRIPTION:Kuldeep Barve and Justin Scarimbolo\, guitar\n\nIn a programme 
 of Erik Satie: Gnossienne Nos. 1–7\, Ogive No. 1\, Vexations\, Gymnopéd
 ie Nos. 1–3 and Danses de Travers Nos. 1 &amp\; 2\n\n\nKuldeep Barve is 
 a guitarist\, teacher\, composer and writer based in Pune. He is a faculty
  for Western Music at FLAME University\, Pune and the SPPU (Pune Universit
 y). While his musical explorations have been mainly in the realm of wester
 n classical music\, his deep interest and active role in improvised forms 
 of music such as jazz and Indian classical music has immensely influenced 
 his musical thought and oeuvre. He is a founder member of the Pune Guitar 
 Society\, an organization dedicated to classical and jazz guitar. He is al
 so deeply involved in film music and has composed music for films\, docume
 ntaries and art installations. As a writer and music consultant\, his late
 st film ‘Rhythm of a flower’\, a feature length animation film based o
 n the life and philosophy of the great Indian classical vocalist\, Kumar G
 andharva\, won the top award (Golden Gateway Award) at the MAMI Internatio
 nal Film Festival 2024.\n\nJustin Scarimbolo is a classical guitarist\, Hi
 ndustani sitarist and ethnomusicologist based in Pune. He received his BA 
 in Music from the State University of New York College at Fredonia\, where
  he studied both classical guitar and Music Therapy. During that time\, Ju
 stin travelled to Pune and met his sitar teacher\, Ms. Jyoti Thakar\, whos
 e family history in music inspired him to pursue a PhD in Ethnomusicology 
 from the University of California Santa Barbara\, which was funded by a Fu
 lbright-Hayes fellowship. In Pune\, Justin taught as a visiting professor 
 at the Symbiosis School for Liberal Arts. He is currently involved in arra
 nging the works of Erik Satie for solo guitar\, guitar duo and voice and g
 uitar\, which he hopes to perform\, record and publish in the future.\nKul
 deep Barve and Justin Scarimbolo of the Pune Guitar Duo perform a selectio
 n of works from the French bohemian composer Erik Satie (1866-1925)\, whic
 h they have arranged for two guitars. The music\, composed for piano in la
 te-nineteenth-century Paris during the height of the Belle époque period\
 , was conceived in a deliberately mystical vein. Aspects of Satie's biogra
 phy will be woven into the performance to provide further insight into thi
 s esoteric music.\n\n
ATTACH;FMTTYPE=image/jpeg:https://poonamusic.com/pms_wp/wp-content/uploads
 /2026/04/pune-guitar-duo1.jpg
CATEGORIES:Guitar
LOCATION:Mazda Hall\, Sardar Dastur Hoshang Boys High School\, Pune\, India
GEO:18.5198845;73.87824479999995
X-APPLE-STRUCTURED-LOCATION;VALUE=URI;X-ADDRESS=Sardar Dastur Hoshang Boys 
 High School\, Pune\, India;X-APPLE-RADIUS=100;X-TITLE=Mazda Hall:geo:18.51
 98845,73.87824479999995
END:VEVENT
END:VCALENDAR