BEGIN:VCALENDAR
VERSION:2.0
PRODID:-//wp-events-plugin.com//7.1.7//EN
BEGIN:VEVENT
UID:1605@poonamusic.com
DTSTART:20230922T190000Z
DTEND:20230922T190000Z
DTSTAMP:20230921T120912Z
URL:https://poonamusic.com/events/quand-on-vous-aime-comme-ca/
SUMMARY:Quand on vous aime comme ça
DESCRIPTION:Quand on vous aime comme ça   When you're loved like that\n\
 n\nHarmonie Deschamps\, voice and staging\nPierre Cussac\, accordion \nBen
 jamin Pras\, piano\n\nIn a programme of Art song\, Lied\, Kabarett and Caf
 é-Concert\n\n[caption id="attachment_15086" align="alignleft" width="491"
 ] Photo by Philippe Rappeneau[/caption]\n\nHarmonie Deschamps\, Pierre Cus
 sac and Benjamin Pras are 3 versatile musicians and artists\, influenced b
 y various genres. They have in common a real commitment in creating innova
 tive projects reaching out to all kinds of audiences. Harmonie was trained
  at the conservatory since childhood\, not only in Western Classical music
  and singing\, but also intensively in Drama. Benjamin and Pierre have an 
 extremely rich and varied musical background and both have an incredible e
 xperience in improvised music. To create this show they merge all their di
 fferent skills together\, thereby\, bringing a lot of flexibility in the c
 omposition\, production and interpretation of this programme. Through this
  rather unusual trio\, they glorify a very accessible and absolutely beaut
 iful repertoire\, resonating with some texts and poems by the most famous 
 authors of that time.\n\nThis programme is made up of gems from French Mel
 ody\, Lied\, Kabarett and Café-Concert repertoires\, from the late 19th a
 nd early 20th centuries. They immerse us in the decadent universe and in t
 he realistic and expressionist aesthetics of Paris and Berlin cabarets\; p
 ortraying the fortune and misfortune of these ladies\, muses of their time
 \, both despised and fantasized\, icons of these Années folles and the da
 rk times that followed\, preparing a century of deep torments and new free
 doms.\n\n\n\n
ATTACH;FMTTYPE=image/jpeg:https://poonamusic.com/pms_wp/wp-content/uploads
 /2023/08/Trio-photo-by-philippe-Rappeneau.jpg
CATEGORIES:Vocal Recitals
LOCATION:Mazda Hall\, Sardar Dastur Hoshang Boys High School\, Pune\, India
GEO:18.5198845;73.87824479999995
X-APPLE-STRUCTURED-LOCATION;VALUE=URI;X-ADDRESS=Sardar Dastur Hoshang Boys 
 High School\, Pune\, India;X-APPLE-RADIUS=100;X-TITLE=Mazda Hall:geo:18.51
 98845,73.87824479999995
END:VEVENT
END:VCALENDAR