BEGIN:VCALENDAR
VERSION:2.0
PRODID:-//wp-events-plugin.com//7.1.7//EN
BEGIN:VEVENT
UID:1538@poonamusic.com
DTSTART:20210228T180000Z
DTEND:20210228T180000Z
DTSTAMP:20250707T041837Z
URL:https://poonamusic.com/events/quartetto-di-cremona-online-concert-2/
SUMMARY:Quartetto di Cremona with Eckart Runge online concert
DESCRIPTION:Quartetto di Cremona with Eckart Runge\, cello\n\nCristiano Gua
 lco\, violinPaolo Andreoli\, violin\nSimone Gramaglia\, viola Giovanni Sca
 glione\, cello\n\nIn association with Italian Embassy Cultural Centre\, Mu
 mbai\n\nSchubert: String Quintet D 956\n\n[caption id="attachment_13405" a
 lign="alignleft" width="300"] Photo: Nikolaj Lund[/caption]\n\nIn 2020\, t
 he Quartetto di Cremona celebrated the first 20 years of its career\, an i
 mportant milestone for an Italian ensemble. Noteworthy recent recording pr
 ojects include a double CD dedicated to Schubert\, featuring cellist Eckar
 t Runge. The album was recorded with the Stradivarius set of instruments n
 amed ‘Paganini Quartet’\, on kind loan from the Nippon Music Foundatio
 n (Tokyo) and attracted high levels of acclaim in the international press.
  They have kindly sent us this film of their performance in Bolzano of thi
 s beautiful masterpiece.\n\nThis film will be available for a few weeks.\n
 \n\n\n
ATTACH;FMTTYPE=image/jpeg:https://poonamusic.com/pms_wp/wp-content/uploads
 /2021/02/Quartetto-di-Cremona-Nikolaj-Lundcrop.jpg
CATEGORIES:Online Concert
LOCATION:https://poonamusic.com/streams/
END:VEVENT
END:VCALENDAR