BEGIN:VCALENDAR
VERSION:2.0
PRODID:-//wp-events-plugin.com//7.1.7//EN
BEGIN:VEVENT
UID:1536@poonamusic.com
DTSTART:20210131T180000Z
DTEND:20210131T180000Z
DTSTAMP:20210201T071119Z
URL:https://poonamusic.com/events/quartetto-di-cremona-online-concert/
SUMMARY:Quartetto di Cremona online concert
DESCRIPTION:Quartetto di Cremona\n\nIn association with Italian Embassy Cul
 tural Centre\, Mumbai\n\nProgramme: Beethoven: String Quartet Op. 127\n\n[
 caption id="attachment_13383" align="alignleft" width="300"] Quartetto di 
 Cremona photo by Nikolaj Lund[/caption]\n\nSince its formation in 2000\, t
 he Quartetto di Cremona has established a reputation as one of the most ex
 citing chamber ensembles on the international stage. Regularly invited to 
 perform at major music festivals in Europe\, North and South America\, and
  Far East\, they garner universal acclaim for their high level of interpre
 tive artistry. In 2020\, the Quartetto di Cremona celebrated its twentieth
  anniversary\, an important milestone for an Italian ensemble. For the occ
 asion\, distinguished concerts and recording projects with several perform
 ances of the complete Beethoven quartet cycle had to be paused due to the 
 pandemic.\n\nThis film will be available for a few weeks.\n\n\n\n
ATTACH;FMTTYPE=image/jpeg:https://poonamusic.com/pms_wp/wp-content/uploads
 /2021/01/Quartetto-di-Cremona-Photo-by-Nicolaj-Lund.jpg
CATEGORIES:Online Concert
LOCATION:https://poonamusic.com/streams/
END:VEVENT
END:VCALENDAR