BEGIN:VCALENDAR
VERSION:2.0
PRODID:-//wp-events-plugin.com//7.1.7//EN
BEGIN:VEVENT
UID:1558@poonamusic.com
DTSTART:20211212T180000Z
DTEND:20211212T180000Z
DTSTAMP:20211216T150621Z
URL:https://poonamusic.com/events/quatuor-joyce-online-concert-2/
SUMMARY:Quatuor Joyce online concert
DESCRIPTION:From Inventio Festival \nQuatuor Joyce\nLeo Marillier\, violin 
 Apolline Kirklar\, violin\nLoïc Abdelfettah\, viola Emmanuel Acurero cell
 o\n\nProgramme: Haydn: String Quartet Op. 33 No. 2 (The Joke)\, String Qua
 rtet Op. 103\; Beethoven: String Quartet Op. 135 (2 movements)\n\nWe are p
 rivileged to receive exclusive broadcasts from the Inventio Festival. This
  concert by Joyce quartet is from the Théȃtre de Nogent-sur-Seine and ex
 plores string quartets of Haydn and Beethoven.\n\nThe festival happens in 
 venues around Paris and is sponsored by many partners. This film has been 
 exclusively sent for the audiences of the Poona Music Society for broadcas
 ting.\n\nThe Joyce Quartet unites four young musicians who graduated with 
 the highest distinction from the Paris Conservatory.\n\nThis film will be 
 available for a few weeks.\n\n
ATTACH;FMTTYPE=image/jpeg:https://poonamusic.com/pms_wp/wp-content/uploads
 /2021/12/Apolline.jpg
CATEGORIES:Online Concert
LOCATION:https://poonamusic.com/streams/
END:VEVENT
END:VCALENDAR