BEGIN:VCALENDAR
VERSION:2.0
PRODID:-//wp-events-plugin.com//7.1.7//EN
BEGIN:VEVENT
UID:1559@poonamusic.com
DTSTART:20211219T180000Z
DTEND:20211219T180000Z
DTSTAMP:20220113T134318Z
URL:https://poonamusic.com/events/quatuor-joyce-online-concert-3/
SUMMARY:Quatuor Joyce online concert
DESCRIPTION:From Inventio Festival \nQuatuor Joyce\nLeo Marillier\, violin 
 Apolline Kirklar\, violin\nLoïc Abdelfettah\, viola Emmanuel Acurero cell
 o\n\nProgramme: Bach: Contrapunctus VIII\, IX\, XIII\; Ivan Wyschnegradsky
 : String trio Op. 53\, String Quartet No. 2 Op. 18\; Anton Webern: String 
 Quartet Op. Posth\n\nThe Joyce Quartet members are all graduates of the Pa
 ris Conservatoire. They are recipients of funds such as the Mécénat Musi
 cal Société Générale and the Fondation de France.\n\nThey have worked 
 with Valentin Erben\, the cellist of Alban Berg Quartet\, Diotima Quartet 
 and others. They participate in the Inventio Festival which is led by thei
 r first violinist Léo Marillier.\n\nThis concert is from the beautiful St
 . Peter’s Church in Beauchery-Saint-Martin\, outside Paris.\n\nThis film
  will be available for a few weeks.\n\n
ATTACH;FMTTYPE=image/jpeg:https://poonamusic.com/pms_wp/wp-content/uploads
 /2021/12/leo-m-crop.jpg
CATEGORIES:Online Concert
LOCATION:https://poonamusic.com/streams/
END:VEVENT
END:VCALENDAR