BEGIN:VCALENDAR
VERSION:2.0
PRODID:-//wp-events-plugin.com//7.1.7//EN
BEGIN:VEVENT
UID:1556@poonamusic.com
DTSTART:20211121T180000Z
DTEND:20211121T180000Z
DTSTAMP:20211123T031800Z
URL:https://poonamusic.com/events/quatuor-joyce-online-concert/
SUMMARY:Quatuor Joyce online concert
DESCRIPTION:From Inventio Festival - Unfinished Works\nQuatuor Joyce\nLeo M
 arillier\, violin Apolline Kirklar\, violin\nLoïc Abdelfettah\, viola Emm
 anuel Acurero cello\n\nProgramme includes: Schubert: Quartettsatz D 103\, 
 Quartettsatz D 703\, Haydn: String Quartet No. 83 Op. 103 and Bartók: Qua
 rtet No. 3\n\nThe Joyce Quartet unites four young musicians who graduated 
 from the highest distinction of the Paris Conservatory\, the Artist Diplom
 a\, where they met\, specializing in 20th and 21st century performance and
  creation. Before coming together\, they had all played with each other in
  festivals via duos or trios. They encourage the blending of classical and
  modern composers\, like Beethoven and Schönberg\, and J. S. Bach and Wys
 chnegradsky in their programmes.\n\nThis film will be available for a few 
 weeks.\n\n
ATTACH;FMTTYPE=image/jpeg:https://poonamusic.com/pms_wp/wp-content/uploads
 /2021/11/36844m0-quatuor-joyce-boissy-chatel-77169.jpg
CATEGORIES:Online Concert
LOCATION:https://poonamusic.com/streams/
END:VEVENT
END:VCALENDAR