BEGIN:VCALENDAR
VERSION:2.0
PRODID:-//wp-events-plugin.com//7.1.7//EN
BEGIN:VEVENT
UID:1441@poonamusic.com
DTSTART:20180104T133000Z
DTEND:20180104T133000Z
DTSTAMP:20171230T115815Z
URL:https://poonamusic.com/events/raphael-alexandre-lustchevsky-piano-2/
SUMMARY:Raphael Alexandre Lustchevsky\, piano
DESCRIPTION:In a programme of Karol Szymanowski : 2 Mazurkas from Op. 50 (N
 o. 2 and No. 4)\; Franz Schubert : Impromptu No. Op. 90 No. 3\, Impromptu 
 Op. 90 No. 2\; Fryderyk Chopin :&nbsp\; Scherzo No. 3 Op. 39\, Scherzo No.
  2 Op. 31\; Manuel de Falla : Two Dances from the ballet La Vida Breve and
  George Gershwin : Rhapsody in Blue\n\nPolish artist\, Raphael Alexandre L
 ustchevsky commenced his international career at the age of 16 with the To
 kyo Symphony Orchestra. Since his debut he has performed throughout the wo
 rld\, his talents taking him to North and South America\, Australia\, Asia
 \, the Middle East\, South Africa and most countries in Europe. Since 2001
  listed as a Steinway Artist on the "Steinway &amp\; Sons Artists' Roster"
  in New York featuring the world's finest pianists. For his artistry\, Rap
 hael Alexandre Lustchevsky has captured the highest awards in several inte
 rnational competitions. His artistic endeavours have also been rewarded wi
 th many other distinctions and scholarships. He has appeared at numerous i
 nternational music festivals. Throughout his career\, he has been performi
 ng at some of the world’s most prestigious concert halls such as the Th
 éâtre du Châtelet in Paris\, Palais des Nations in Geneva\, Warsaw Nati
 onal Philharmonic\, Palau da Musica in Barcelona\, Suntory Hall in Tokyo\,
  Victoria Concert Hall in Singapore\, Sala Cecilia Meirelles in Rio de Jan
 eiro\, Salon Dorado in Buenos Aires\, Teatro Solis in Montevideo\, Verbrug
 ghen Hall in Sydney\, etc.\n\nAs an active recording artist\, Maestro Lust
 chevsky has made numerous music recordings. He has a diverse repertoire of
  more than 30 concertos for piano and orchestra. He also performs concerto
 s by Polish composers\, such as Paderewski\, Szymanowski\, Szpilman and th
 e one dedicated to him by Debski (1997).\n\nHailed as one of the most accl
 aimed pianists of his generation\, maestro Lustchevsky is an accomplished 
 pedagogue. In 2003\, he has been appointed Honorary Professor to the Natio
 nal University of Costa Rica. He has lectured as a guest professor at New 
 Zealand School of Music at Victoria University Wellington\, Sydney Univers
 ity Conservatorium of Music\, Griffith University Conservatorium in Brisba
 ne\, Xinghai Conservatorium in Guangzhou\, National University in Brasilia
 \, music conservatoriums in Buenos Aires\, Lima and Montevideo\, National 
 Music Institutes in Algiers and PanamaCity and others.\n\nConsidered an ex
 pert interpreter of Fryderyk Chopin's works\, in 2011\, he inspired and co
 -founded the International "F.Chopin" Piano Competition for South America 
 in Lima\, Peru becoming its President and jury member. In 2014\, he also s
 haped the National Chopin Piano Competition in Ecuador becoming its Artist
 ic Director.\n\n\n\n
ATTACH;FMTTYPE=image/jpeg:https://poonamusic.com/pms_wp/wp-content/uploads
 /2017/12/website-crop-image.jpg
CATEGORIES:Piano recitals
LOCATION:Mazda Hall\, Sardar Dastur Hoshang Boys High School\, Pune\, India
GEO:18.5198845;73.87824479999995
X-APPLE-STRUCTURED-LOCATION;VALUE=URI;X-ADDRESS=Sardar Dastur Hoshang Boys 
 High School\, Pune\, India;X-APPLE-RADIUS=100;X-TITLE=Mazda Hall:geo:18.51
 98845,73.87824479999995
END:VEVENT
END:VCALENDAR