BEGIN:VCALENDAR
VERSION:2.0
PRODID:-//wp-events-plugin.com//7.1.7//EN
BEGIN:VEVENT
UID:1458@poonamusic.com
DTSTART:20180621T133000Z
DTEND:20180621T133000Z
DTSTAMP:20180624T061706Z
URL:https://poonamusic.com/events/reflections-fete-de-la-musique/
SUMMARY:Reflections - Fête de la Musique
DESCRIPTION:In Association with Alliance Francaise de Pune\n\nFÊTE DE LA M
 USIQUE (WORLD MUSIC DAY) 2018\nSunilkumar PK\, vocals and percussions\nMit
 hun MP\, vocals\nSantosh Chandran\, lead guitars\nJossie Peter\, bass guit
 ar\n\nOn the occasion of the World Music Day / “Fête de la Musique”\,
  Alliance Française de Pune\, in association with the Poona Music Society
 \, brings you a concert by “REFLECTIONS” for a fusion Indian folk\, cl
 assical and world music experience\, led by the much-loved percussionist S
 unilkumar PK whose spectacular performance with Parisian Bibi Tanga in Mar
 ch left the audience mesmerised!\n\n&nbsp\;\n\n\n\n&nbsp\;
ATTACH;FMTTYPE=image/jpeg:https://poonamusic.com/pms_wp/wp-content/uploads
 /2018/06/Sunil-CROP1.jpg
CATEGORIES:World Music
LOCATION:Mazda Hall\, Sardar Dastur Hoshang Boys High School\, Pune\, India
GEO:18.5198845;73.87824479999995
X-APPLE-STRUCTURED-LOCATION;VALUE=URI;X-ADDRESS=Sardar Dastur Hoshang Boys 
 High School\, Pune\, India;X-APPLE-RADIUS=100;X-TITLE=Mazda Hall:geo:18.51
 98845,73.87824479999995
END:VEVENT
END:VCALENDAR