BEGIN:VCALENDAR
VERSION:2.0
PRODID:-//wp-events-plugin.com//7.1.7//EN
BEGIN:VEVENT
UID:179@poonamusic.com
DTSTART:20111023T131500Z
DTEND:20111023T153000Z
DTSTAMP:20150302T203428Z
URL:https://poonamusic.com/events/rivka-golani-viola-and-john-lenehan-pian
 o/
SUMMARY:Rivka Golani\, viola and John Lenehan\, piano
DESCRIPTION:Mazda Hall at 6.30 pm(Free admittance)In a programme of Schuber
 t: Sonata in A Minor D. 821 &lsquo\;Arpeggione&rsquo\;\, Prokofiev: (arr. 
 Borisovsky) - Six Pieces from &lsquo\;Romeo and Juliet&rsquo\;\, Bruch: Ko
 l Nidrei\, John Ireland: The Island Spell and Rachmaninoff: Sonata Op.19
CATEGORIES:Viola and piano recitals
LOCATION:Mazda Hall\, Sardar Dastur Hoshang Boys High School\, Pune\, India
GEO:18.5198845;73.87824479999995
X-APPLE-STRUCTURED-LOCATION;VALUE=URI;X-ADDRESS=Sardar Dastur Hoshang Boys 
 High School\, Pune\, India;X-APPLE-RADIUS=100;X-TITLE=Mazda Hall:geo:18.51
 98845,73.87824479999995
END:VEVENT
END:VCALENDAR