BEGIN:VCALENDAR
VERSION:2.0
PRODID:-//wp-events-plugin.com//7.1.7//EN
BEGIN:VEVENT
UID:1564@poonamusic.com
DTSTART:20220327T180000Z
DTEND:20220327T180000Z
DTSTAMP:20220327T115723Z
URL:https://poonamusic.com/events/roberto-prosseda-pedal-piano-live-concer
 t/
SUMMARY:Roberto Prosseda\, Pedal Piano\, online concert
DESCRIPTION:Roberto Prosseda\, Pedal Piano\n\nIn a programme of Alexandre-P
 ierre-François-Boëly: Fantasy and Fugue Op. 18 No. 6\; Charles Gounod: F
 uneral March of a Marionette\; Charles-Valentin Alkan: From 12 Etudes for 
 organ pedals\, Benedictus for Pedal piano Op. 54\, From 11 Preludes Op. 66
  No. 3 and 4\n\nA nineteenth century invention\, the Pedal piano is effect
 ively 2 pianos played by the same pianist\, one played by the hands and th
 e other played by the feet. A bit similar to the organ\, this instrument i
 s certainly not as popular. Yet\, composers like Schumann\, Liszt\, Alkan 
 and Gounod composed some music for this very complicated instrument.\n\nRo
 berto Prosseda is a leading exponent of the Pedal Piano and performs on th
 is specially built extra pedal keyboard built by the Italian master piano 
 maker Fazioli.\n\nIn September 2011\, Prosseda gave his debut performing t
 he Concerto for Pedal Piano by Gounod in the world premiere in modern time
 s. He has given more than 70 concerts with the pedal piano\, rediscovering
  the original compositions by Robert Schumann\, Franz Liszt and Charles Va
 lentin Alkan. Several composers\, including Ennio Morricone\, have already
  written new pieces for pedal piano for Roberto Prosseda\, and an album of
  Gounod's four pieces for pedal piano and orchestra with the Orchestra del
 la Svizzera Italiana conducted by Howard Shelley was released on the Hyper
 ion label in 2013.\n\nProsseda is also known as the leading exponent of Me
 ndelssohn's piano music. His CD of Mendelssohn rarities on Decca catapulte
 d him to International fame and later his discography on Decca of the comp
 lete piano music of Mendelssohn has gained him worldwide recognition.\n\nH
 e has kindly allowed us the use of this film which will be available for a
  few weeks.\n\n
ATTACH;FMTTYPE=image/jpeg:https://poonamusic.com/pms_wp/wp-content/uploads
 /2022/03/Roberto-IMG_9550ec-2.jpg
CATEGORIES:Online Concert,Piano recitals
LOCATION:https://poonamusic.com/streams/
END:VEVENT
END:VCALENDAR