BEGIN:VCALENDAR
VERSION:2.0
PRODID:-//wp-events-plugin.com//7.1.7//EN
BEGIN:VEVENT
UID:1562@poonamusic.com
DTSTART:20220213T180000Z
DTEND:20220213T180000Z
DTSTAMP:20220207T040413Z
URL:https://poonamusic.com/events/roberto-prosseda-pedal-piano-online-conc
 ert/
SUMMARY:Roberto Prosseda\, pedal piano online concert
DESCRIPTION:Roberto Prosseda\, pedal piano\n\n\nProgramme: Schumann: 4 Sket
 ches for Pedal Piano Op. 58\, 6 Studies in Canon form for Pedal Piano Op. 
 56\n\nA nineteenth century invention\, the Pedal piano is effectively 2 pi
 anos played by the same pianist\, one played by the hands and the other pl
 ayed by the feet. A bit similar to the organ\, this instrument is certainl
 y not as popular. Yet\, composers like Schumann\, Liszt\, Alkan and Gounod
  composed some music for this very complicated instrument.\n\nRoberto Pros
 seda is a leading exponent of the Pedal Piano and performs on this special
 ly designed extra pedal keyboard built by the Italian master piano maker F
 azioli.\n\nThis film will be available for a few weeks.\n\n
ATTACH;FMTTYPE=image/jpeg:https://poonamusic.com/pms_wp/wp-content/uploads
 /2022/02/Roberto-prosseda1.jpg
CATEGORIES:Online Concert
LOCATION:https://poonamusic.com/streams/
END:VEVENT
END:VCALENDAR