BEGIN:VCALENDAR
VERSION:2.0
PRODID:-//wp-events-plugin.com//7.1.7//EN
BEGIN:VEVENT
UID:1447@poonamusic.com
DTSTART:20180227T133000Z
DTEND:20180227T133000Z
DTSTAMP:20180224T020558Z
URL:https://poonamusic.com/events/roberto-prosseda-piano/
SUMMARY:Roberto Prosseda\, piano
DESCRIPTION:In a programme of Mozart : Sonata K 457\; Mendelssohn: Lieder o
 hne worte (selections)\, Fantasia Op. 28\, Rondo Capriccioso Op. 14\; Fano
  : Rimembranze di Padova\; Chopin: Nocturne Op. 48 No. 1\, Ballade No. 1 a
 nd Liszt: Fantasie après une lecture de Dante&nbsp\;\n\nRoberto Prosseda 
 was born in Latina\, Italy\, in 1975. His Decca albums dedicated to Felix 
 Mendelssohn\, including the Piano Concerto No. 3 with the Gewandhaus Orche
 stra and Riccardo Chailly\, have won much acclaim in the press\, including
  the CHOC from Le Monde de la Musique Classique\, the Diapason d'Or and Ch
 amber Music CD of the Month in the UK's Classic FM magazine.\n\nIn 2010\, 
 Deutsche Grammophon selected twelve recordings by Prosseda to add to the b
 ox set\, "Classic Gold". In 2014 Prosseda completed his 10-year project of
  recording all of Mendelssohn's piano works for Decca in 9 CDs.\n\nOther t
 han Mendelssohn\, whose piano music he is considered to be a leading inter
 preter of today\, Prosseda's interpretations of Mozart\, Schubert\, Schuma
 nn and Chopin have been particularly praised\, and these composers have in
  fact featured in Prosseda's recent Decca recordings. In 2015\, Prosseda s
 tarted the complete recording of Mozart's Piano Sonatas with a modern pian
 o tuned with unequal temperament.\n\n
ATTACH;FMTTYPE=image/jpeg:https://poonamusic.com/pms_wp/wp-content/uploads
 /2018/01/Roberto-photo-by-Paolo-Cabalistiweb.jpg
CATEGORIES:Piano recitals
LOCATION:Mazda Hall\, Sardar Dastur Hoshang Boys High School\, Pune\, India
GEO:18.5198845;73.87824479999995
X-APPLE-STRUCTURED-LOCATION;VALUE=URI;X-ADDRESS=Sardar Dastur Hoshang Boys 
 High School\, Pune\, India;X-APPLE-RADIUS=100;X-TITLE=Mazda Hall:geo:18.51
 98845,73.87824479999995
END:VEVENT
END:VCALENDAR