BEGIN:VCALENDAR
VERSION:2.0
PRODID:-//wp-events-plugin.com//7.1.7//EN
BEGIN:VEVENT
UID:1541@poonamusic.com
DTSTART:20210411T180000Z
DTEND:20210411T180000Z
DTSTAMP:20250707T041811Z
URL:https://poonamusic.com/events/romanza-italiana-online-concert/
SUMMARY:Romanza Italiana online concert
DESCRIPTION:Maria Luigia Borsi\, soprano and Antonio Artese\, piano\n\nIn a
 ssociation with Italian Embassy Cultural Centre\, Mumbai\n\nProgramme: Fra
 ncesco Paolo Tosti: L'alba sepàra dalla luce l'ombra (G. D’Annunzio)\, 
 A vucchella (G. D’Annunzio)\, Sogno (L. Stecchetti)\; Alfredo Catalani: 
 Chanson Groenlandaise\; Renato Brogi: Presentimento\; Giacomo Puccini: Sol
 e e amore\, O mio babbino caro (Gianni Schicchi)\, Sogno d’Or (La Rondin
 e)\, Il bel Sogno di Doretta (La Rondine)\, Donde lieta usci and Ruggero L
 eoncavallo: Mattinata\n\nHailed by critics worldwide for her vocal dynamis
 m and interpretive prowess\, Italian lyric soprano Maria Luigia Borsi has 
 forged a career that has taken her throughout Europe\, Asia and the United
  States. Ms. Borsi has performed at the Salzburg Festival (Otello)\, Zuric
 h Opernhaus (La traviata)\, Berlin Philharmonie (Suor Angelica)\, Deutsche
  Oper Berlin (La bohème)\, Gran Teatre del Liceu of Barcelona (La bohème
 )\, New National Theatre of Tokyo (Così fan tutte and Otello)\, Arena di 
 Verona (Carmen)\, Royal Danish Opera (Madama Butterfy)\, Les Chorégies d
 ’Orange (Turandot)\, Pittsburgh Opera (Madama Butterfy)\, Novaya Opera o
 f Moscow (Il trovatore) with renowned conductors.\n\nItalian pianist and c
 omposer Antonio Artese has been much sought after as a recital pianist in 
 Europe and in the U.S.\, and as a member of chamber music and vocal ensemb
 les. A former student of Maestro Massimo Marzi and Bianca Maria Orlando in
  Rome\, and of the great romantic virtuoso Sergio Fiorentino\, in Naples\,
  he won First Prize in the Rachmaninov International Piano competition (19
 85) and received similar distinction by the Performing Arts Scholarship Fo
 undation (1992) in Santa Barbara. In 2017 Antonio Artese has been appointe
 d Dean of the Global Academic Programs at the Accademia Musicale Chigiana 
 in Siena\, Italy.\n\n&nbsp\;\n\nThis film will be available for a few week
 s.\n\n\n\n
ATTACH;FMTTYPE=image/jpeg:https://poonamusic.com/pms_wp/wp-content/uploads
 /2021/03/Photo-Borsi-crop.jpg
CATEGORIES:Online Concert
LOCATION:https://poonamusic.com/streams/
END:VEVENT
END:VCALENDAR