BEGIN:VCALENDAR
VERSION:2.0
PRODID:-//wp-events-plugin.com//7.1.7//EN
BEGIN:VEVENT
UID:1533@poonamusic.com
DTSTART:20201213T180000Z
DTEND:20201213T180000Z
DTSTAMP:20201210T120022Z
URL:https://poonamusic.com/events/schubert-an-evening-of-selected-songs-on
 line-concert/
SUMMARY:Corinna Ruba\, soprano\, Schubert songs  - online concert
DESCRIPTION:Corinna Ruba\, soprano\; Members of the Peace &amp\; Love Orche
 stra\n\nSchubert: An evening of Selected songs\n\nIn association with Goet
 he Institute\, Max Mueller Bhavan\, Pune and Alliance Française de Pune\n
 \nProgramme includes: Ganymed\, Erlkönig\, Ständchen\, Im Abendrot\, Gre
 tchen am Spinnrade and Der Tod und das Mädchen\n\nCorinna Ruba is a Berli
 n based lyric coloratura soprano who studied in Munich\, Salzburg and Rome
  among other places. She has participated in many Opera festivals and mast
 er classes all over Europe\, and has sung the roles of Pamina and Queen of
  the Night in Mozart’s Magic flute\, Tosca in Puccini’s Tosca\, and ma
 ny other operas ranging from Baroque to Contemporary. She is equally at ho
 me singing lieder and uses an unusual approach to popularize opera and art
  song.\n\nThese arrangements of Schubert songs have been made for string q
 uartet and voice\, and specially recorded for us in Zürich.\n\nThis film 
 will be available for a few weeks.\n\n\n\n
ATTACH;FMTTYPE=image/jpeg:https://poonamusic.com/pms_wp/wp-content/uploads
 /2020/12/IMG_9960cbwc11.jpg
CATEGORIES:Online Concert
LOCATION:https://poonamusic.com/streams/
END:VEVENT
END:VCALENDAR