BEGIN:VCALENDAR
VERSION:2.0
PRODID:-//wp-events-plugin.com//7.1.7//EN
BEGIN:VEVENT
UID:1439@poonamusic.com
DTSTART:20171214T133000Z
DTEND:20171214T133000Z
DTSTAMP:20171214T000457Z
URL:https://poonamusic.com/events/subin-sebastian-counter-tenor-nadine-cra
 sto-piano/
SUMMARY:Subin Sebastian\, counter tenor and Nadine Crasto\, piano
DESCRIPTION:In a programme of G. Bononcini : Per la Gloria\; A. Vivaldi : V
 edro Con Mio Diletto\; G. F. Handel : Where’er You Walk\, Venti Turbini\
 ; J. S. Bach : Erbarme Dich\; C. W. Gluck : O Del Mio Dolce\, Che Faro Sen
 za\; F. Schubert : An Die Musik\, An Den Mond\, Die Forelle\; J. Brahms : 
 Wie Melodien\; C. Debussy : Les Cloches and M. Head : The Singer\n\nSubin 
 Sebastian Mathai\, the incumbent Young Musician of the Year 2017 of the Ol
 ga and Jules Craen Foundation (OJCF) discovered his unique voice and revel
 led in it\, though usually in private. In 2012 he had the opportunity to s
 ing for renowned soprano Patricia Rozario OBE FRCM. It was here that his l
 ife took a new direction. Subin studied voice under the tutelage of Mumbai
  based soprano\, Minaish Doctor and regularly participated in the Master C
 lasses conducted by Patricia Rozario and Pianist Mark Troop under&nbsp\; G
 iving Voice to India Programme of the Giving Voice Society (GVS). As the i
 ncumbent OJCF laureate\, Subin had a wonderful opportunity to participate 
 in a summer music programme in the UK and work with experienced profession
 als.&nbsp\;\n\nSubin is currently a pupil of Counter-Tenor Michael Chance 
 CBE\, Mezzo Soprano Caitlin Hulcup and Tenor Ian Partridge CBE at the Roya
 l Academy of Music in London\, where is pursuing a Master’s degree. He p
 articularly enjoys singing baroque music especially the works written for 
 Castrati by numerous 18th century composers\, but is equally at home singi
 ng modern works.&nbsp\;\n\nNadine Crasto began learning the piano at the a
 ge of 9 under the tutelage of Myrna Fernandes. She graduated with a Master
  of Arts Degree in Piano Performance at the Royal Academy of Music\, Londo
 n\, studying under Colin Stone. She studied harpsichord with Carole Cerasi
  and performed anachronistic chamber works on various historical instrumen
 ts during her studies in London. Nadine was awarded the Nancy Dickinson Aw
 ard and the Greta Parkinson Award for good work\, conduct and general achi
 evement at the Royal Academy. She completed the LTCL Examination in 2009 a
 t the age of 17 and received two awards for the ATCL Examination the previ
 ous year\, having achieved the highest marks in Mumbai.\n\nShe has partici
 pated twice in the All-India Music Quest Competition achieving gold seals 
 and winning first place in the Jazz and Popular Music section in 2011\, as
  well as in the All-India Con Brio Festival\, at which she was a semi-fina
 list in the year 2010. She gave a piano recital at the NCPA Stopgaps Young
  Talent which received much acclaim\, and has been performing at solo and 
 chamber music concerts in London\, Mumbai\, Goa\, Kolkata\, Mysore\, Banga
 lore\, Ahmedabad\, Delhi and Pune. She has performed at several master cla
 sses and piano workshops conducted by Kathryn Stott\,Tatiana Sarkissova\, 
 Colin Stone\, Mark Troop\, Paul Stewart\, Christopher Norton\, Peter Mack\
 , Scott MacBride Smith\, Nelita True\, Farheed Curmally\, Stephen Kovacevi
 ch\, Marialena Fernandes and many others.&nbsp\;&nbsp\;&nbsp\;&nbsp\;&nbsp
 \;&nbsp\;&nbsp\;&nbsp\;&nbsp\;&nbsp\;&nbsp\;&nbsp\;&nbsp\;&nbsp\;&nbsp\;&n
 bsp\;&nbsp\;&nbsp\;&nbsp\;&nbsp\;&nbsp\;\n\nNadine has trained\, conducted
  and composed vocal arrangements for choirs\, preparing them for competiti
 ons and performances since the age of 16. She was a part of the Discover M
 usic Programme of the Mehli Mehta Music Foundation and taught music in var
 ious schools. She also gives private piano lessons and prepares students f
 or music exams\, competitions and performances. A number of her students h
 ave achieved distinctions and won prizes.\n\n\n\n
ATTACH;FMTTYPE=image/jpeg:https://poonamusic.com/pms_wp/wp-content/uploads
 /2017/11/ESP2607-web-crop.jpg
CATEGORIES:Vocal Recitals
LOCATION:Mazda Hall\, Sardar Dastur Hoshang Boys High School\, Pune\, India
GEO:18.5198845;73.87824479999995
X-APPLE-STRUCTURED-LOCATION;VALUE=URI;X-ADDRESS=Sardar Dastur Hoshang Boys 
 High School\, Pune\, India;X-APPLE-RADIUS=100;X-TITLE=Mazda Hall:geo:18.51
 98845,73.87824479999995
END:VEVENT
END:VCALENDAR