BEGIN:VCALENDAR
VERSION:2.0
PRODID:-//wp-events-plugin.com//7.1.7//EN
BEGIN:VEVENT
UID:345@poonamusic.com
DTSTART:20050417T131500Z
DTEND:20050417T153000Z
DTSTAMP:20150302T203421Z
URL:https://poonamusic.com/events/the-art-of-piano-a-film-written-by-chris
 tian-labrande-and-donald-sturrock/
SUMMARY:The Art of Piano – A film written by Christian Labrande and Donal
 d Sturrock
DESCRIPTION:The Art of Piano – A film written by Christian Labrande and D
 onald Sturrock
CATEGORIES:Video screenings
LOCATION:Mazda Hall\, Sardar Dastur Hoshang Boys High School\, Pune\, India
GEO:18.5198845;73.87824479999995
X-APPLE-STRUCTURED-LOCATION;VALUE=URI;X-ADDRESS=Sardar Dastur Hoshang Boys 
 High School\, Pune\, India;X-APPLE-RADIUS=100;X-TITLE=Mazda Hall:geo:18.51
 98845,73.87824479999995
END:VEVENT
END:VCALENDAR