BEGIN:VCALENDAR
VERSION:2.0
PRODID:-//wp-events-plugin.com//7.1.7//EN
BEGIN:VEVENT
UID:346@poonamusic.com
DTSTART:20050424T131500Z
DTEND:20050424T153000Z
DTSTAMP:20150302T203421Z
URL:https://poonamusic.com/events/the-art-of-violin-a-film-written-and-dir
 ected-by-bruno-monsaingeon/
SUMMARY:The Art of Violin – A film written and directed by Bruno Monsaing
 eon
DESCRIPTION:The Art of Violin – A film written and directed by Bruno Mons
 aingeon
CATEGORIES:Video screenings
LOCATION:Mazda Hall\, Sardar Dastur Hoshang Boys High School\, Pune\, India
GEO:18.5198845;73.87824479999995
X-APPLE-STRUCTURED-LOCATION;VALUE=URI;X-ADDRESS=Sardar Dastur Hoshang Boys 
 High School\, Pune\, India;X-APPLE-RADIUS=100;X-TITLE=Mazda Hall:geo:18.51
 98845,73.87824479999995
END:VEVENT
END:VCALENDAR