BEGIN:VCALENDAR
VERSION:2.0
PRODID:-//wp-events-plugin.com//7.1.7//EN
BEGIN:VEVENT
UID:601@poonamusic.com
DTSTART:19820901T131500Z
DTEND:19820901T153000Z
DTSTAMP:20150302T203416Z
URL:https://poonamusic.com/events/the-dorian-winds-quintet-karl-kraber-flu
 te-gerald-reuter-oboe-jerry-kirkbride-clarinet-jane-taylor-bassoon-david-j
 olley-horn/
SUMMARY:The Dorian Winds Quintet – Karl Kraber\, flute / Gerald Reuter\, 
 oboe / Jerry Kirkbride\, clarinet / Jane Taylor\, bassoon / David Jolley\,
  horn
DESCRIPTION:The Dorian Winds Quintet – Karl Kraber\, flute / Gerald Reute
 r\, oboe / Jerry Kirkbride\, clarinet / Jane Taylor\, bassoon / David Joll
 ey\, horn 
CATEGORIES:Quintet
LOCATION:Concert Hall\, St. Vincent's \, Pune\, Maharashtra\, 411001\, Indi
 a
GEO:18.5127407;73.87542639999992
X-APPLE-STRUCTURED-LOCATION;VALUE=URI;X-ADDRESS=St. Vincent's \, Pune\, Mah
 arashtra\, 411001\, India;X-APPLE-RADIUS=100;X-TITLE=Concert Hall:geo:18.5
 127407,73.87542639999992
END:VEVENT
END:VCALENDAR