BEGIN:VCALENDAR
VERSION:2.0
PRODID:-//wp-events-plugin.com//7.1.7//EN
BEGIN:VEVENT
UID:656@poonamusic.com
DTSTART:19700501T131500Z
DTEND:19700501T153000Z
DTSTAMP:20150302T203416Z
URL:https://poonamusic.com/events/the-dorian-woodwind-quintet-karl-kraber-
 flute-charles-kuskin-oboe-william-lewis-clarinet-jane-taylor-bassoon-barry
 -benjamin-french-horn/
SUMMARY:The Dorian Woodwind Quintet – Karl Kraber\, flute / Charles Kuski
 n\, oboe / William Lewis\, clarinet / Jane Taylor\, bassoon / Barry Benjam
 in\, french horn
DESCRIPTION:The Dorian Woodwind Quintet – Karl Kraber\, flute / Charles K
 uskin\, oboe / William Lewis\, clarinet / Jane Taylor\, bassoon / Barry Be
 njamin\, french horn
CATEGORIES:Quintet
LOCATION:Concert Hall\, St. Vincent's \, Pune\, Maharashtra\, 411001\, Indi
 a
GEO:18.5127407;73.87542639999992
X-APPLE-STRUCTURED-LOCATION;VALUE=URI;X-ADDRESS=St. Vincent's \, Pune\, Mah
 arashtra\, 411001\, India;X-APPLE-RADIUS=100;X-TITLE=Concert Hall:geo:18.5
 127407,73.87542639999992
END:VEVENT
END:VCALENDAR