BEGIN:VCALENDAR
VERSION:2.0
PRODID:-//wp-events-plugin.com//7.1.7//EN
BEGIN:VEVENT
UID:446@poonamusic.com
DTSTART:20040904T131500Z
DTEND:20040904T153000Z
DTSTAMP:20150302T203419Z
URL:https://poonamusic.com/events/the-jade-trio-dilshad-posnock-flute-jaso
 n-posnock-violin-alistair-macrae-cello/
SUMMARY:The Jade Trio - Dilshad Posnock\, flute / Jason Posnock\, violin /
  Alistair MacRae\, cello
DESCRIPTION:The Jade Trio - Dilshad Posnock\, flute / Jason Posnock\, viol
 in / Alistair MacRae\, cello
CATEGORIES:Trios
LOCATION:Mazda Hall\, Sardar Dastur Hoshang Boys High School\, Pune\, India
GEO:18.5198845;73.87824479999995
X-APPLE-STRUCTURED-LOCATION;VALUE=URI;X-ADDRESS=Sardar Dastur Hoshang Boys 
 High School\, Pune\, India;X-APPLE-RADIUS=100;X-TITLE=Mazda Hall:geo:18.51
 98845,73.87824479999995
END:VEVENT
END:VCALENDAR