BEGIN:VCALENDAR
VERSION:2.0
PRODID:-//wp-events-plugin.com//7.1.7//EN
BEGIN:VEVENT
UID:445@poonamusic.com
DTSTART:20040104T131500Z
DTEND:20040104T153000Z
DTSTAMP:20150302T203419Z
URL:https://poonamusic.com/events/the-mainardi-trio-maya-magub-violin-sara
 h-butcher-cello-christopher-ross-piano/
SUMMARY:The Mainardi Trio - Maya Magub\, violin / Sarah Butcher\, cello / 
 Christopher Ross\, piano
DESCRIPTION:The Mainardi Trio - Maya Magub\, violin / Sarah Butcher\, cell
 o / Christopher Ross\, piano in association with The Delhi Music Society a
 nd the Sandvik Asia Ltd.
CATEGORIES:Trios
LOCATION:Mazda Hall\, Sardar Dastur Hoshang Boys High School\, Pune\, India
GEO:18.5198845;73.87824479999995
X-APPLE-STRUCTURED-LOCATION;VALUE=URI;X-ADDRESS=Sardar Dastur Hoshang Boys 
 High School\, Pune\, India;X-APPLE-RADIUS=100;X-TITLE=Mazda Hall:geo:18.51
 98845,73.87824479999995
END:VEVENT
END:VCALENDAR