BEGIN:VCALENDAR
VERSION:2.0
PRODID:-//wp-events-plugin.com//7.1.7//EN
BEGIN:VEVENT
UID:149@poonamusic.com
DTSTART:20040917T131500Z
DTEND:20040917T153000Z
DTSTAMP:20150302T203427Z
URL:https://poonamusic.com/events/thierry-gregoire-counter-tenor-ronaldo-c
 orreia-de-lima-lopes-lute-emily-audouin-viola-da-gamba/
SUMMARY:Thierry Gregoire\, counter tenor / Ronaldo Correia de Lima Lopes\, 
 lute / Emily Audouin\, viola da Gamba
DESCRIPTION:Thierry Gregoire\, counter tenor / Ronaldo Correia de Lima Lope
 s\, lute / Emily Audouin\, viola da Gamba in association with the Allianc
 e Française de Poona
CATEGORIES:Vocal Recitals
LOCATION:Mazda Hall\, Sardar Dastur Hoshang Boys High School\, Pune\, India
GEO:18.5198845;73.87824479999995
X-APPLE-STRUCTURED-LOCATION;VALUE=URI;X-ADDRESS=Sardar Dastur Hoshang Boys 
 High School\, Pune\, India;X-APPLE-RADIUS=100;X-TITLE=Mazda Hall:geo:18.51
 98845,73.87824479999995
END:VEVENT
END:VCALENDAR