BEGIN:VCALENDAR
VERSION:2.0
PRODID:-//wp-events-plugin.com//7.1.7//EN
BEGIN:VEVENT
UID:912@poonamusic.com
DTSTART:20020926T131500Z
DTEND:20020926T153000Z
DTSTAMP:20150302T203410Z
URL:https://poonamusic.com/events/thomas-gabriel-jazz-trio/
SUMMARY:Thomas Gabriel Jazz Trio
DESCRIPTION:Thomas Gabriel Jazz Trio in association with the Max Mueller Bh
 avan\, the Consulate General of Germany\, Mumbai and Forbes Marshall Pvt. 
 Ltd.
CATEGORIES:Jazz
LOCATION:Mazda Hall\, Sardar Dastur Hoshang Boys High School\, Pune\, India
GEO:18.5198845;73.87824479999995
X-APPLE-STRUCTURED-LOCATION;VALUE=URI;X-ADDRESS=Sardar Dastur Hoshang Boys 
 High School\, Pune\, India;X-APPLE-RADIUS=100;X-TITLE=Mazda Hall:geo:18.51
 98845,73.87824479999995
END:VEVENT
END:VCALENDAR