BEGIN:VCALENDAR
VERSION:2.0
PRODID:-//wp-events-plugin.com//7.1.7//EN
BEGIN:VEVENT
UID:444@poonamusic.com
DTSTART:20030410T131500Z
DTEND:20030410T153000Z
DTSTAMP:20150302T203419Z
URL:https://poonamusic.com/events/trio-con-fuoco-with-quentin-hindley-sull
 iman-altmayer-violin-gauthier-herrmann-cello-samuel-parent-piano/
SUMMARY:Trio Con Fuoco with Quentin Hindley - Sulliman Altmayer\, violin 
 / Gauthier Herrmann\, cello / Samuel Parent\, piano 
DESCRIPTION:Trio Con Fuoco with Quentin Hindley - Sulliman Altmayer\, viol
 in / Gauthier Herrmann\, cello / Samuel Parent\, piano in association w
 ith the Alliance Française de Poona
CATEGORIES:Trios
LOCATION:Mazda Hall\, Sardar Dastur Hoshang Boys High School\, Pune\, India
GEO:18.5198845;73.87824479999995
X-APPLE-STRUCTURED-LOCATION;VALUE=URI;X-ADDRESS=Sardar Dastur Hoshang Boys 
 High School\, Pune\, India;X-APPLE-RADIUS=100;X-TITLE=Mazda Hall:geo:18.51
 98845,73.87824479999995
END:VEVENT
END:VCALENDAR