BEGIN:VCALENDAR
VERSION:2.0
PRODID:-//wp-events-plugin.com//7.1.7//EN
BEGIN:VEVENT
UID:1547@poonamusic.com
DTSTART:20210711T180000Z
DTEND:20210711T180000Z
DTSTAMP:20210708T105845Z
URL:https://poonamusic.com/events/trio-guersan-online-concert/
SUMMARY:Trio Guersan online concert
DESCRIPTION:Trio Guersan\nMathieu Schmaltz\, violin\; Aurélie Metivier\, v
 iola and Jean-Baptiste Valfre\, cello\n\nIn association with Goethe Instit
 ute\, Max Mueller Bhavan\, Pune and Alliance Française de Pune\n\nIn a pr
 ogramme of Haydn: String trio in D major Hob: IX: 114\; Albrechtsberger: T
 rio concertante Op. 9 No. 3\; Beethoven: String trio Op. 9 No. 3 and Humme
 l: Trio in G major\n\nThese three musicians of Trio Guersan\, laureates of
  the CNSMD in Lyon\, met through their mutual passion for historically inf
 ormed performances on period instruments. Having known the hallways of the
  Abbaye aux Dames in Saintes\, where their strong friendship grew\, they b
 ecame attracted to the idea of playing string trios together. Their name c
 omes from the famous violin-maker Louis Guersan\, head of the "Vieux Paris
 " school\, created in the 18th century. This performance was recorded at t
 heir appearance at the Inventio festival.\n\nThis film will be available f
 or a few weeks.\n\nPlease follow the link: http://poonamusic.com/streams/\
 n\n\n\n
ATTACH;FMTTYPE=image/jpeg:https://poonamusic.com/pms_wp/wp-content/uploads
 /2021/06/trio-guersan2.jpg
CATEGORIES:Online Concert
LOCATION:https://poonamusic.com/streams/
END:VEVENT
END:VCALENDAR