BEGIN:VCALENDAR
VERSION:2.0
PRODID:-//wp-events-plugin.com//7.1.7//EN
BEGIN:VEVENT
UID:1534@poonamusic.com
DTSTART:20201227T180000Z
DTEND:20201227T180000Z
DTSTAMP:20201225T055424Z
URL:https://poonamusic.com/events/trio-leos-online-concert-2/
SUMMARY:Trio Leos\, Beethoven Trio online concert
DESCRIPTION:Trio Leos\nJean-Michel Dayez\, piano\; Pablo Schatzman\, violin
  and Guillaume Lafeuille\, cello\n\nIn association with Goethe Institute\,
  Max Mueller Bhavan\, Pune and Alliance Française de Pune\n\nProgramme : 
 Beethoven: Piano trio Op. 70 No. 1 (Ghost)\n\nThe nickname ‘Ghost’ for
  the first of the Op. 70 trios\, came most probably from Carl Czerny\, Bee
 thoven’s pupil. Czerny wrote that the haunting second movement reminded 
 him of the appearance of Banquo’s ghost from Macbeth.\n\nTrio Leos was f
 ounded in 2013 by Jean-Michel Dayez with Guillaume Lafeuille\, cello and P
 ablo Schatzman\, violin. They take the name from Leoš Janáček\, but the
  mainstay of their repertoire are the complete Beethoven trios. Jean-Miche
 l Dayez has frequently been to India as part of Artie’s festival.\n\nThi
 s film was recorded at Opera de Lille and will be available for a few week
 s.\n\n\n\n
ATTACH;FMTTYPE=image/jpeg:https://poonamusic.com/pms_wp/wp-content/uploads
 /2020/09/Trio-Leos.jpg
CATEGORIES:Online Concert
LOCATION:https://poonamusic.com/streams/
END:VEVENT
END:VCALENDAR