BEGIN:VCALENDAR
VERSION:2.0
PRODID:-//wp-events-plugin.com//7.1.7//EN
BEGIN:VEVENT
UID:1528@poonamusic.com
DTSTART:20200927T180000Z
DTEND:20200927T180000Z
DTSTAMP:20201027T090100Z
URL:https://poonamusic.com/events/trio-leos-online-concert/
SUMMARY:Trio Leos\, online concert
DESCRIPTION:Jean-Michel Dayez\, piano\; \nPablo Schatzman\, violin\nGuillau
 me Lafeuille\, cello\n\nIn association with Goethe Institute\, Max Mueller
  Bhavan\, Pune and Alliance Française de Pune\n\nProgramme - Beethoven: P
 iano trio Op. 1 No. 1\n\nBeethoven's first published works were the 3 Pian
 o trios Op. 1. This trio Op. 1 No. 1 was completed by a young Beethoven in
  Vienna in 1795.\n\nTrio Leos was founded in 2013 by Jean-Michel Dayez wit
 h Guillaume Lafeuille\, cello and Pablo Schatzman\, violin. They take the 
 name from Leos Janacek\, but the mainstay of their repertoire is the compl
 ete Beethoven trios.\n\nJean-Michel Dayez has frequently been to India as 
 part of Artie's festival. He is hugely in demand as a chamber musician\, f
 or accompanying singers and also as a soloist and recitalist. We are grate
 ful to him for sharing this performance with us.\n\nPlease follow the link
 : http://poonamusic.com/streams/\n\n\n\n
ATTACH;FMTTYPE=image/jpeg:https://poonamusic.com/pms_wp/wp-content/uploads
 /2020/09/Trio-Leos.jpg
CATEGORIES:Online Concert
LOCATION:https://poonamusic.com/streams/
END:VEVENT
END:VCALENDAR