BEGIN:VCALENDAR
VERSION:2.0
PRODID:-//wp-events-plugin.com//7.1.7//EN
BEGIN:VEVENT
UID:442@poonamusic.com
DTSTART:20020807T131500Z
DTEND:20020807T153000Z
DTSTAMP:20150302T203419Z
URL:https://poonamusic.com/events/trio-margit-haider-piano-dilshad-billimo
 ria-flute-jason-posnock-violin/
SUMMARY:Trio - Margit Haider\, piano / Dilshad Billimoria\, flute / Jason P
 osnock\, violin 
DESCRIPTION:Trio - Dilshad Billimoria\, flute / Jason Posnock\, violin / M
 argit Haider-Dechant\, piano in association with the Air-India\, piano 
CATEGORIES:Trios
LOCATION:Mazda Hall\, Sardar Dastur Hoshang Boys High School\, Pune\, India
GEO:18.5198845;73.87824479999995
X-APPLE-STRUCTURED-LOCATION;VALUE=URI;X-ADDRESS=Sardar Dastur Hoshang Boys 
 High School\, Pune\, India;X-APPLE-RADIUS=100;X-TITLE=Mazda Hall:geo:18.51
 98845,73.87824479999995
END:VEVENT
END:VCALENDAR