BEGIN:VCALENDAR
VERSION:2.0
PRODID:-//wp-events-plugin.com//7.1.7//EN
BEGIN:VEVENT
UID:1531@poonamusic.com
DTSTART:20201108T180000Z
DTEND:20201108T180000Z
DTSTAMP:20201105T102944Z
URL:https://poonamusic.com/events/trio-quodlibet-online-concert/
SUMMARY:Trio Quodlibet online concert
DESCRIPTION:Trio Quodlibet \n\nMariechristine Lopez\, violin\; Virginia Luc
 a\, viola\; Fabio Fausone\, cello\n\nIn association with Goethe Institute\
 , Max Mueller Bhavan\, Pune and Alliance Française de Pune\n\nIn a progra
 mme of J. S. Bach: Goldberg Variations (arrangement for String trio by Bru
 no Giuranna)\n\nTrio Quodlibet\, despite being a young formation\, can enu
 merate concerts and collaborations with high level series and music festiv
 als\, nationally and internationally. They have studied with Quartetto di 
 Cremona\, Bruno Giuranna\, Belcea quartet\, among others and invited to ma
 ny International festivals. In 2018 they won 1st prize at the the European
  Music Competition and in 2019\, their perfromances of the complete Beetho
 ven String trios were transmitted live over RAI. This perfromance was reco
 rded in Ravenna at the Basilica di San Vitale and they have kindly shared 
 it with us.\n\nThis film will be available for a few weeks.\n\n\n\n
ATTACH;FMTTYPE=image/jpeg:https://poonamusic.com/pms_wp/wp-content/uploads
 /2020/10/Trio-Quodlibet-crop.jpg
CATEGORIES:Online Concert
LOCATION:https://poonamusic.com/streams/
END:VEVENT
END:VCALENDAR