BEGIN:VCALENDAR
VERSION:2.0
PRODID:-//wp-events-plugin.com//7.1.7//EN
BEGIN:VEVENT
UID:163@poonamusic.com
DTSTART:20100129T131500Z
DTEND:20100129T153000Z
DTSTAMP:20150302T203427Z
URL:https://poonamusic.com/events/viola-da-cunha-mezzo-soprano-alan-peach-
 piano/
SUMMARY:Viola da Cunha\, mezzo soprano / Alan Peach\, piano
DESCRIPTION:Viola da Cunha\, mezzo soprano / Alan Peach\, piano
CATEGORIES:Vocal Recitals
LOCATION:Mazda Hall\, Sardar Dastur Hoshang Boys High School\, Pune\, India
GEO:18.5198845;73.87824479999995
X-APPLE-STRUCTURED-LOCATION;VALUE=URI;X-ADDRESS=Sardar Dastur Hoshang Boys 
 High School\, Pune\, India;X-APPLE-RADIUS=100;X-TITLE=Mazda Hall:geo:18.51
 98845,73.87824479999995
END:VEVENT
END:VCALENDAR