BEGIN:VCALENDAR
VERSION:2.0
PRODID:-//wp-events-plugin.com//7.1.7//EN
BEGIN:VEVENT
UID:1570@poonamusic.com
DTSTART:20190112T000000Z
DTEND:20190112T000000Z
DTSTAMP:20220415T040733Z
URL:https://poonamusic.com/events/violin-workshop-for-the-students-of-the-
 suzuki-school-of-music-by-thomas-schrott-2/
SUMMARY:Interactive session of Pune Guitar Society
DESCRIPTION:Interactive session of Pune Guitar Society
CATEGORIES:Outreach
END:VEVENT
END:VCALENDAR