BEGIN:VCALENDAR
VERSION:2.0
PRODID:-//wp-events-plugin.com//7.1.7//EN
BEGIN:VEVENT
UID:21@poonamusic.com
DTSTART:20150128T134500Z
DTEND:20150128T160000Z
DTSTAMP:20250707T034945Z
URL:https://poonamusic.com/events/voice-and-piano-recital/
SUMMARY:Chloe de Souza\, soprano and Chelsea de Souza\, piano
DESCRIPTION:Mazda Hall at 7 pm\n\n(Free Admittance)\n\nIn a programme of Mo
 zart: 10 Variations K 455\, Deh Vieni non Tardar (Figaro)\, Appena mi vedo
 n (La Finta Giardiniera)\; Scriabin: Piano Sonata Op. 30 No. 4\; Liszt: Ba
 llade No. 2\; Bizet: Chanson d'avril\; Mendelssohn: Auf Flugeln des Gesang
 es\, Hexenlied and Medtner: Sonata Tragica Op. 39 No. 5\n\nChloe de Souza 
 is currently in her sophomore year at the prestigious Oberlin Conservatory
  of Music in the US where she is pursuing a Bachelors degree in music\, ma
 joring in piano performance with Peter Takacs and voice with Kendra Colton
 . Chloe’s achievements in the field of music\, both vocal and piano\, ha
 ve been numerous. At the Interschool Singing Competitions organized by the
  Time &amp\; Talents Club\, she was adjudged ‘the Best Singer and Perfor
 mer’ across all age groups.  She has been the winner of competitions bo
 th at the local and national level. She was the winner of the third Con Br
 io All-India Piano Competition\, and was a winner at Musiquest\, an All-In
 dia Piano Festival held in Pune. At the age of 17\, she completed her LTCL
  (Licentiate of the Trinity College of Music\, London) diploma.\n\nA Stein
 way Young Artist\, Chelsea de Souza is currently a senior at Oberlin Colle
 ge and Conservatory\, pursuing a Bachelors of Music in piano performance a
 nd vocal accompanying under Peter Takacs and a Bachelors of Arts in politi
 cs.  Chelsea has completed her LTCL (Licentiate Diploma) from the Trinity
  College of Music\, London. She has won 4 All-India piano competitions\, a
 nd was the top prize-winner in the 2009 IIYM International Piano Competiti
 on in Kansas\, USA. She has been on three consecutive summer music scholar
 ships to study with Prof Sheila Arnold from the Hochschule fur Musik in K
 öln\, Germany. She has played for internationally lauded musicians includ
 ing Maestro Zubin Mehta\, Leon Fleisher\, Pascal Rogé and Tamás Vásáry
 .\n\n
CATEGORIES:Vocal Recitals
LOCATION:Mazda Hall\, Sardar Dastur Hoshang Boys High School\, Pune\, India
GEO:18.5198845;73.87824479999995
X-APPLE-STRUCTURED-LOCATION;VALUE=URI;X-ADDRESS=Sardar Dastur Hoshang Boys 
 High School\, Pune\, India;X-APPLE-RADIUS=100;X-TITLE=Mazda Hall:geo:18.51
 98845,73.87824479999995
END:VEVENT
END:VCALENDAR