BEGIN:VCALENDAR
VERSION:2.0
PRODID:-//wp-events-plugin.com//7.1.7//EN
BEGIN:VEVENT
UID:1375@poonamusic.com
DTSTART:20160423T133000Z
DTEND:20160423T133000Z
DTSTAMP:20160416T142841Z
URL:https://poonamusic.com/events/voice-recital/
SUMMARY:Charlotte de Rothschild/Mark Troop
DESCRIPTION:Charlotte de Rothschild\, soprano\nMark Troop\, piano\n\n\n\nIn
  a programme of lieder by Purcell\; Schumann\; Mathilde de Rothschild\; Qu
 ilter\; Britten and traditional Japanese songs\n\nCharlotte de Rothschild'
 s career has taken her all over the world. With her wide knowledge of the 
 song repertoire\, from different eras\, countries and genres\, she has cre
 ated some wonderful themed programmes\; the best known being the Family Co
 nnections programme which traces the musical history of her forebears with
  music by\, and anecdotes about\, the composers who were friends\, teacher
 s or ancestors of the Rothschild family during the 19th and 20th Centuries
 . Recently\, Charlotte presented this programme in Switzerland\, Japan\, T
 aiwan\, Singapore and the UK. Her most recent CD releases\, accompanied by
  the fine pianist Adrian Farmer\, include a double album called The Songs 
 of Mathilde de Rothschild which showcase the beautiful French and German s
 ongs of her talented ancestor who was a pupil of Chopin and a well-publish
 ed composer in the 19th century\, an Intimate Recital of Schumann Lieder\,
  a Gabriel Fauré album Mirages\, The Songs of Roger Quilter and Christmas
  Lullabies\, a beautiful selection of seasonal delights accompanied by the
  harp. After performing in Japan for over twenty years\, she recorded a CD
  of classical Japanese songs called A Japanese Journey and was the first f
 oreigner to have recorded this music in the native tongue.\n\nMark Troop\,
  pianist\, broadcaster and writer\, is the founder of The Chamber Music Co
 mpany\, a creative performance group.  He made his name first as a solo p
 ianist\, recording Beethoven for BBC Radio 3\, but soon branched into cham
 ber music and song\, founding the Chamber Music Company (CMC) with his wif
 e\, soprano Patricia Rozario\, in the 1990s. Mark Troop and Patricia Rozar
 io have been encouraging interest in western music in India and have been 
 running vocal courses under the Giving Voice to India banner. After four y
 ears\, the group has started to produce its first operas with entire India
 n casts\, a first in the sub-continent\, which generated real excitement. 
 In 2012\, Mark Troop was invited to become a guest lecturer in music at Go
 a University for a three year term.
ATTACH;FMTTYPE=image/jpeg:https://poonamusic.com/pms_wp/wp-content/uploads
 /2016/04/Charlotte2.jpg
CATEGORIES:Vocal Recitals
LOCATION:Mazda Hall\, Sardar Dastur Hoshang Boys High School\, Pune\, India
GEO:18.5198845;73.87824479999995
X-APPLE-STRUCTURED-LOCATION;VALUE=URI;X-ADDRESS=Sardar Dastur Hoshang Boys 
 High School\, Pune\, India;X-APPLE-RADIUS=100;X-TITLE=Mazda Hall:geo:18.51
 98845,73.87824479999995
END:VEVENT
END:VCALENDAR